BEGIN:VCALENDAR
VERSION:2.0
PRODID:-//Community Living Walkerton and District - ECPv6.15.18//NONSGML v1.0//EN
CALSCALE:GREGORIAN
METHOD:PUBLISH
X-WR-CALNAME:Community Living Walkerton and District
X-ORIGINAL-URL:https://clwalkerton.org
X-WR-CALDESC:Events for Community Living Walkerton and District
REFRESH-INTERVAL;VALUE=DURATION:PT1H
X-Robots-Tag:noindex
X-PUBLISHED-TTL:PT1H
BEGIN:VTIMEZONE
TZID:America/Toronto
BEGIN:DAYLIGHT
TZOFFSETFROM:-0500
TZOFFSETTO:-0400
TZNAME:EDT
DTSTART:20250309T070000
END:DAYLIGHT
BEGIN:STANDARD
TZOFFSETFROM:-0400
TZOFFSETTO:-0500
TZNAME:EST
DTSTART:20251102T060000
END:STANDARD
BEGIN:DAYLIGHT
TZOFFSETFROM:-0500
TZOFFSETTO:-0400
TZNAME:EDT
DTSTART:20260308T070000
END:DAYLIGHT
BEGIN:STANDARD
TZOFFSETFROM:-0400
TZOFFSETTO:-0500
TZNAME:EST
DTSTART:20261101T060000
END:STANDARD
BEGIN:DAYLIGHT
TZOFFSETFROM:-0500
TZOFFSETTO:-0400
TZNAME:EDT
DTSTART:20270314T070000
END:DAYLIGHT
BEGIN:STANDARD
TZOFFSETFROM:-0400
TZOFFSETTO:-0500
TZNAME:EST
DTSTART:20271107T060000
END:STANDARD
END:VTIMEZONE
BEGIN:VEVENT
DTSTART;TZID=America/Toronto:20260619T120000
DTEND;TZID=America/Toronto:20260619T130000
DTSTAMP:20260422T210111
CREATED:20260422T182119Z
LAST-MODIFIED:20260422T182119Z
UID:10001965-1781870400-1781874000@clwalkerton.org
SUMMARY:BBQ Time!
DESCRIPTION:June/July/August – BBQ’s will happen on the Friday posters with info closer to the time.
URL:https://clwalkerton.org/event/bbq-time/2026-06-19/
CATEGORIES:Community Participation
ATTACH;FMTTYPE=image/jpeg:https://clwalkerton.org/wp-content/uploads/2025/04/bbq.jpg
END:VEVENT
BEGIN:VEVENT
DTSTART;TZID=America/Toronto:20260717T120000
DTEND;TZID=America/Toronto:20260717T130000
DTSTAMP:20260422T210111
CREATED:20260422T182119Z
LAST-MODIFIED:20260422T182119Z
UID:10001966-1784289600-1784293200@clwalkerton.org
SUMMARY:BBQ Time!
DESCRIPTION:June/July/August – BBQ’s will happen on the Friday posters with info closer to the time.
URL:https://clwalkerton.org/event/bbq-time/2026-07-17/
CATEGORIES:Community Participation
ATTACH;FMTTYPE=image/jpeg:https://clwalkerton.org/wp-content/uploads/2025/04/bbq.jpg
END:VEVENT
BEGIN:VEVENT
DTSTART;TZID=America/Toronto:20260814T120000
DTEND;TZID=America/Toronto:20260814T130000
DTSTAMP:20260422T210111
CREATED:20260422T182119Z
LAST-MODIFIED:20260422T182119Z
UID:10001967-1786708800-1786712400@clwalkerton.org
SUMMARY:BBQ Time!
DESCRIPTION:June/July/August – BBQ’s will happen on the Friday posters with info closer to the time.
URL:https://clwalkerton.org/event/bbq-time/2026-08-14/
CATEGORIES:Community Participation
ATTACH;FMTTYPE=image/jpeg:https://clwalkerton.org/wp-content/uploads/2025/04/bbq.jpg
END:VEVENT
END:VCALENDAR