BEGIN:VCALENDAR
VERSION:2.0
PRODID:-//Community Living Walkerton and District - ECPv6.15.18//NONSGML v1.0//EN
CALSCALE:GREGORIAN
METHOD:PUBLISH
X-WR-CALNAME:Community Living Walkerton and District
X-ORIGINAL-URL:https://clwalkerton.org
X-WR-CALDESC:Events for Community Living Walkerton and District
REFRESH-INTERVAL;VALUE=DURATION:PT1H
X-Robots-Tag:noindex
X-PUBLISHED-TTL:PT1H
BEGIN:VTIMEZONE
TZID:America/Toronto
BEGIN:DAYLIGHT
TZOFFSETFROM:-0500
TZOFFSETTO:-0400
TZNAME:EDT
DTSTART:20250309T070000
END:DAYLIGHT
BEGIN:STANDARD
TZOFFSETFROM:-0400
TZOFFSETTO:-0500
TZNAME:EST
DTSTART:20251102T060000
END:STANDARD
BEGIN:DAYLIGHT
TZOFFSETFROM:-0500
TZOFFSETTO:-0400
TZNAME:EDT
DTSTART:20260308T070000
END:DAYLIGHT
BEGIN:STANDARD
TZOFFSETFROM:-0400
TZOFFSETTO:-0500
TZNAME:EST
DTSTART:20261101T060000
END:STANDARD
BEGIN:DAYLIGHT
TZOFFSETFROM:-0500
TZOFFSETTO:-0400
TZNAME:EDT
DTSTART:20270314T070000
END:DAYLIGHT
BEGIN:STANDARD
TZOFFSETFROM:-0400
TZOFFSETTO:-0500
TZNAME:EST
DTSTART:20271107T060000
END:STANDARD
END:VTIMEZONE
BEGIN:VEVENT
DTSTART;TZID=America/Toronto:20260605T130000
DTEND;TZID=America/Toronto:20260605T150000
DTSTAMP:20260422T191150
CREATED:20260422T181733Z
LAST-MODIFIED:20260422T181733Z
UID:10001952-1780664400-1780671600@clwalkerton.org
SUMMARY:Fun Fridays
DESCRIPTION:Friday Funday – Decorating the Homecoming float \nFriday Funday  \n\nOutdoor games & mocktails\nSteam show\nSilver Lake outdoor activities
URL:https://clwalkerton.org/event/fun-fridays/2026-06-05/
CATEGORIES:Community Participation
ATTACH;FMTTYPE=image/jpeg:https://clwalkerton.org/wp-content/uploads/2025/03/fun-friday.jpg
END:VEVENT
BEGIN:VEVENT
DTSTART;TZID=America/Toronto:20260612T130000
DTEND;TZID=America/Toronto:20260612T150000
DTSTAMP:20260422T191150
CREATED:20260422T181733Z
LAST-MODIFIED:20260422T181733Z
UID:10001953-1781269200-1781276400@clwalkerton.org
SUMMARY:Fun Fridays
DESCRIPTION:Friday Funday – Decorating the Homecoming float \nFriday Funday  \n\nOutdoor games & mocktails\nSteam show\nSilver Lake outdoor activities
URL:https://clwalkerton.org/event/fun-fridays/2026-06-12/
CATEGORIES:Community Participation
ATTACH;FMTTYPE=image/jpeg:https://clwalkerton.org/wp-content/uploads/2025/03/fun-friday.jpg
END:VEVENT
BEGIN:VEVENT
DTSTART;TZID=America/Toronto:20260619T130000
DTEND;TZID=America/Toronto:20260619T150000
DTSTAMP:20260422T191150
CREATED:20260422T181733Z
LAST-MODIFIED:20260422T181733Z
UID:10001954-1781874000-1781881200@clwalkerton.org
SUMMARY:Fun Fridays
DESCRIPTION:Friday Funday – Decorating the Homecoming float \nFriday Funday  \n\nOutdoor games & mocktails\nSteam show\nSilver Lake outdoor activities
URL:https://clwalkerton.org/event/fun-fridays/2026-06-19/
CATEGORIES:Community Participation
ATTACH;FMTTYPE=image/jpeg:https://clwalkerton.org/wp-content/uploads/2025/03/fun-friday.jpg
END:VEVENT
BEGIN:VEVENT
DTSTART;TZID=America/Toronto:20260626T130000
DTEND;TZID=America/Toronto:20260626T150000
DTSTAMP:20260422T191150
CREATED:20260422T181733Z
LAST-MODIFIED:20260422T181733Z
UID:10001955-1782478800-1782486000@clwalkerton.org
SUMMARY:Fun Fridays
DESCRIPTION:Friday Funday – Decorating the Homecoming float \nFriday Funday  \n\nOutdoor games & mocktails\nSteam show\nSilver Lake outdoor activities
URL:https://clwalkerton.org/event/fun-fridays/2026-06-26/
CATEGORIES:Community Participation
ATTACH;FMTTYPE=image/jpeg:https://clwalkerton.org/wp-content/uploads/2025/03/fun-friday.jpg
END:VEVENT
BEGIN:VEVENT
DTSTART;TZID=America/Toronto:20260703T130000
DTEND;TZID=America/Toronto:20260703T150000
DTSTAMP:20260422T191150
CREATED:20260422T181733Z
LAST-MODIFIED:20260422T181733Z
UID:10001956-1783083600-1783090800@clwalkerton.org
SUMMARY:Fun Fridays
DESCRIPTION:Friday Funday – Decorating the Homecoming float \nFriday Funday  \n\nOutdoor games & mocktails\nSteam show\nSilver Lake outdoor activities
URL:https://clwalkerton.org/event/fun-fridays/2026-07-03/
CATEGORIES:Community Participation
ATTACH;FMTTYPE=image/jpeg:https://clwalkerton.org/wp-content/uploads/2025/03/fun-friday.jpg
END:VEVENT
BEGIN:VEVENT
DTSTART;TZID=America/Toronto:20260710T130000
DTEND;TZID=America/Toronto:20260710T150000
DTSTAMP:20260422T191150
CREATED:20260422T181733Z
LAST-MODIFIED:20260422T181733Z
UID:10001957-1783688400-1783695600@clwalkerton.org
SUMMARY:Fun Fridays
DESCRIPTION:Friday Funday – Decorating the Homecoming float \nFriday Funday  \n\nOutdoor games & mocktails\nSteam show\nSilver Lake outdoor activities
URL:https://clwalkerton.org/event/fun-fridays/2026-07-10/
CATEGORIES:Community Participation
ATTACH;FMTTYPE=image/jpeg:https://clwalkerton.org/wp-content/uploads/2025/03/fun-friday.jpg
END:VEVENT
BEGIN:VEVENT
DTSTART;TZID=America/Toronto:20260717T130000
DTEND;TZID=America/Toronto:20260717T150000
DTSTAMP:20260422T191150
CREATED:20260422T181733Z
LAST-MODIFIED:20260422T181733Z
UID:10001958-1784293200-1784300400@clwalkerton.org
SUMMARY:Fun Fridays
DESCRIPTION:Friday Funday – Decorating the Homecoming float \nFriday Funday  \n\nOutdoor games & mocktails\nSteam show\nSilver Lake outdoor activities
URL:https://clwalkerton.org/event/fun-fridays/2026-07-17/
CATEGORIES:Community Participation
ATTACH;FMTTYPE=image/jpeg:https://clwalkerton.org/wp-content/uploads/2025/03/fun-friday.jpg
END:VEVENT
BEGIN:VEVENT
DTSTART;TZID=America/Toronto:20260724T130000
DTEND;TZID=America/Toronto:20260724T150000
DTSTAMP:20260422T191150
CREATED:20260422T181733Z
LAST-MODIFIED:20260422T181733Z
UID:10001959-1784898000-1784905200@clwalkerton.org
SUMMARY:Fun Fridays
DESCRIPTION:Friday Funday – Decorating the Homecoming float \nFriday Funday  \n\nOutdoor games & mocktails\nSteam show\nSilver Lake outdoor activities
URL:https://clwalkerton.org/event/fun-fridays/2026-07-24/
CATEGORIES:Community Participation
ATTACH;FMTTYPE=image/jpeg:https://clwalkerton.org/wp-content/uploads/2025/03/fun-friday.jpg
END:VEVENT
BEGIN:VEVENT
DTSTART;TZID=America/Toronto:20260731T130000
DTEND;TZID=America/Toronto:20260731T150000
DTSTAMP:20260422T191150
CREATED:20260422T181733Z
LAST-MODIFIED:20260422T181733Z
UID:10001960-1785502800-1785510000@clwalkerton.org
SUMMARY:Fun Fridays
DESCRIPTION:Friday Funday – Decorating the Homecoming float \nFriday Funday  \n\nOutdoor games & mocktails\nSteam show\nSilver Lake outdoor activities
URL:https://clwalkerton.org/event/fun-fridays/2026-07-31/
CATEGORIES:Community Participation
ATTACH;FMTTYPE=image/jpeg:https://clwalkerton.org/wp-content/uploads/2025/03/fun-friday.jpg
END:VEVENT
BEGIN:VEVENT
DTSTART;TZID=America/Toronto:20260807T130000
DTEND;TZID=America/Toronto:20260807T150000
DTSTAMP:20260422T191150
CREATED:20260422T181733Z
LAST-MODIFIED:20260422T181733Z
UID:10001961-1786107600-1786114800@clwalkerton.org
SUMMARY:Fun Fridays
DESCRIPTION:Friday Funday – Decorating the Homecoming float \nFriday Funday  \n\nOutdoor games & mocktails\nSteam show\nSilver Lake outdoor activities
URL:https://clwalkerton.org/event/fun-fridays/2026-08-07/
CATEGORIES:Community Participation
ATTACH;FMTTYPE=image/jpeg:https://clwalkerton.org/wp-content/uploads/2025/03/fun-friday.jpg
END:VEVENT
BEGIN:VEVENT
DTSTART;TZID=America/Toronto:20260814T130000
DTEND;TZID=America/Toronto:20260814T150000
DTSTAMP:20260422T191150
CREATED:20260422T181733Z
LAST-MODIFIED:20260422T181733Z
UID:10001962-1786712400-1786719600@clwalkerton.org
SUMMARY:Fun Fridays
DESCRIPTION:Friday Funday – Decorating the Homecoming float \nFriday Funday  \n\nOutdoor games & mocktails\nSteam show\nSilver Lake outdoor activities
URL:https://clwalkerton.org/event/fun-fridays/2026-08-14/
CATEGORIES:Community Participation
ATTACH;FMTTYPE=image/jpeg:https://clwalkerton.org/wp-content/uploads/2025/03/fun-friday.jpg
END:VEVENT
BEGIN:VEVENT
DTSTART;TZID=America/Toronto:20260821T130000
DTEND;TZID=America/Toronto:20260821T150000
DTSTAMP:20260422T191150
CREATED:20260422T181733Z
LAST-MODIFIED:20260422T181733Z
UID:10001963-1787317200-1787324400@clwalkerton.org
SUMMARY:Fun Fridays
DESCRIPTION:Friday Funday – Decorating the Homecoming float \nFriday Funday  \n\nOutdoor games & mocktails\nSteam show\nSilver Lake outdoor activities
URL:https://clwalkerton.org/event/fun-fridays/2026-08-21/
CATEGORIES:Community Participation
ATTACH;FMTTYPE=image/jpeg:https://clwalkerton.org/wp-content/uploads/2025/03/fun-friday.jpg
END:VEVENT
BEGIN:VEVENT
DTSTART;TZID=America/Toronto:20260828T130000
DTEND;TZID=America/Toronto:20260828T150000
DTSTAMP:20260422T191150
CREATED:20260422T181733Z
LAST-MODIFIED:20260422T181733Z
UID:10001964-1787922000-1787929200@clwalkerton.org
SUMMARY:Fun Fridays
DESCRIPTION:Friday Funday – Decorating the Homecoming float \nFriday Funday  \n\nOutdoor games & mocktails\nSteam show\nSilver Lake outdoor activities
URL:https://clwalkerton.org/event/fun-fridays/2026-08-28/
CATEGORIES:Community Participation
ATTACH;FMTTYPE=image/jpeg:https://clwalkerton.org/wp-content/uploads/2025/03/fun-friday.jpg
END:VEVENT
END:VCALENDAR