BEGIN:VCALENDAR
VERSION:2.0
PRODID:-//Community Living Walkerton and District - ECPv6.15.18//NONSGML v1.0//EN
CALSCALE:GREGORIAN
METHOD:PUBLISH
X-WR-CALNAME:Community Living Walkerton and District
X-ORIGINAL-URL:https://clwalkerton.org
X-WR-CALDESC:Events for Community Living Walkerton and District
REFRESH-INTERVAL;VALUE=DURATION:PT1H
X-Robots-Tag:noindex
X-PUBLISHED-TTL:PT1H
BEGIN:VTIMEZONE
TZID:America/Toronto
BEGIN:DAYLIGHT
TZOFFSETFROM:-0500
TZOFFSETTO:-0400
TZNAME:EDT
DTSTART:20250309T070000
END:DAYLIGHT
BEGIN:STANDARD
TZOFFSETFROM:-0400
TZOFFSETTO:-0500
TZNAME:EST
DTSTART:20251102T060000
END:STANDARD
BEGIN:DAYLIGHT
TZOFFSETFROM:-0500
TZOFFSETTO:-0400
TZNAME:EDT
DTSTART:20260308T070000
END:DAYLIGHT
BEGIN:STANDARD
TZOFFSETFROM:-0400
TZOFFSETTO:-0500
TZNAME:EST
DTSTART:20261101T060000
END:STANDARD
BEGIN:DAYLIGHT
TZOFFSETFROM:-0500
TZOFFSETTO:-0400
TZNAME:EDT
DTSTART:20270314T070000
END:DAYLIGHT
BEGIN:STANDARD
TZOFFSETFROM:-0400
TZOFFSETTO:-0500
TZNAME:EST
DTSTART:20271107T060000
END:STANDARD
END:VTIMEZONE
BEGIN:VEVENT
DTSTART;TZID=America/Toronto:20260604T090000
DTEND;TZID=America/Toronto:20260604T150000
DTSTAMP:20260422T173455
CREATED:20260422T180029Z
LAST-MODIFIED:20260422T180029Z
UID:10001914-1780563600-1780585200@clwalkerton.org
SUMMARY:Adventures
DESCRIPTION:Adventures – Is a variety of outings that cover plays\, visits to see animals\, fishing and many more idea. Each outing requires money – bring 20.00 each time
URL:https://clwalkerton.org/event/adventures/2026-06-04/
CATEGORIES:Community Participation
ATTACH;FMTTYPE=image/jpeg:https://clwalkerton.org/wp-content/uploads/2025/04/adventure.jpg
END:VEVENT
BEGIN:VEVENT
DTSTART;TZID=America/Toronto:20260611T090000
DTEND;TZID=America/Toronto:20260611T150000
DTSTAMP:20260422T173455
CREATED:20260422T180029Z
LAST-MODIFIED:20260422T180029Z
UID:10001915-1781168400-1781190000@clwalkerton.org
SUMMARY:Adventures
DESCRIPTION:Adventures – Is a variety of outings that cover plays\, visits to see animals\, fishing and many more idea. Each outing requires money – bring 20.00 each time
URL:https://clwalkerton.org/event/adventures/2026-06-11/
CATEGORIES:Community Participation
ATTACH;FMTTYPE=image/jpeg:https://clwalkerton.org/wp-content/uploads/2025/04/adventure.jpg
END:VEVENT
BEGIN:VEVENT
DTSTART;TZID=America/Toronto:20260618T090000
DTEND;TZID=America/Toronto:20260618T150000
DTSTAMP:20260422T173455
CREATED:20260422T180029Z
LAST-MODIFIED:20260422T180029Z
UID:10001916-1781773200-1781794800@clwalkerton.org
SUMMARY:Adventures
DESCRIPTION:Adventures – Is a variety of outings that cover plays\, visits to see animals\, fishing and many more idea. Each outing requires money – bring 20.00 each time
URL:https://clwalkerton.org/event/adventures/2026-06-18/
CATEGORIES:Community Participation
ATTACH;FMTTYPE=image/jpeg:https://clwalkerton.org/wp-content/uploads/2025/04/adventure.jpg
END:VEVENT
BEGIN:VEVENT
DTSTART;TZID=America/Toronto:20260625T090000
DTEND;TZID=America/Toronto:20260625T150000
DTSTAMP:20260422T173455
CREATED:20260422T180029Z
LAST-MODIFIED:20260422T180029Z
UID:10001917-1782378000-1782399600@clwalkerton.org
SUMMARY:Adventures
DESCRIPTION:Adventures – Is a variety of outings that cover plays\, visits to see animals\, fishing and many more idea. Each outing requires money – bring 20.00 each time
URL:https://clwalkerton.org/event/adventures/2026-06-25/
CATEGORIES:Community Participation
ATTACH;FMTTYPE=image/jpeg:https://clwalkerton.org/wp-content/uploads/2025/04/adventure.jpg
END:VEVENT
BEGIN:VEVENT
DTSTART;TZID=America/Toronto:20260702T090000
DTEND;TZID=America/Toronto:20260702T150000
DTSTAMP:20260422T173455
CREATED:20260422T180029Z
LAST-MODIFIED:20260422T180029Z
UID:10001918-1782982800-1783004400@clwalkerton.org
SUMMARY:Adventures
DESCRIPTION:Adventures – Is a variety of outings that cover plays\, visits to see animals\, fishing and many more idea. Each outing requires money – bring 20.00 each time
URL:https://clwalkerton.org/event/adventures/2026-07-02/
CATEGORIES:Community Participation
ATTACH;FMTTYPE=image/jpeg:https://clwalkerton.org/wp-content/uploads/2025/04/adventure.jpg
END:VEVENT
BEGIN:VEVENT
DTSTART;TZID=America/Toronto:20260709T090000
DTEND;TZID=America/Toronto:20260709T150000
DTSTAMP:20260422T173455
CREATED:20260422T180029Z
LAST-MODIFIED:20260422T180029Z
UID:10001919-1783587600-1783609200@clwalkerton.org
SUMMARY:Adventures
DESCRIPTION:Adventures – Is a variety of outings that cover plays\, visits to see animals\, fishing and many more idea. Each outing requires money – bring 20.00 each time
URL:https://clwalkerton.org/event/adventures/2026-07-09/
CATEGORIES:Community Participation
ATTACH;FMTTYPE=image/jpeg:https://clwalkerton.org/wp-content/uploads/2025/04/adventure.jpg
END:VEVENT
BEGIN:VEVENT
DTSTART;TZID=America/Toronto:20260716T090000
DTEND;TZID=America/Toronto:20260716T150000
DTSTAMP:20260422T173456
CREATED:20260422T180029Z
LAST-MODIFIED:20260422T180029Z
UID:10001920-1784192400-1784214000@clwalkerton.org
SUMMARY:Adventures
DESCRIPTION:Adventures – Is a variety of outings that cover plays\, visits to see animals\, fishing and many more idea. Each outing requires money – bring 20.00 each time
URL:https://clwalkerton.org/event/adventures/2026-07-16/
CATEGORIES:Community Participation
ATTACH;FMTTYPE=image/jpeg:https://clwalkerton.org/wp-content/uploads/2025/04/adventure.jpg
END:VEVENT
BEGIN:VEVENT
DTSTART;TZID=America/Toronto:20260730T090000
DTEND;TZID=America/Toronto:20260730T150000
DTSTAMP:20260422T173456
CREATED:20260422T180029Z
LAST-MODIFIED:20260422T180029Z
UID:10001921-1785402000-1785423600@clwalkerton.org
SUMMARY:Adventures
DESCRIPTION:Adventures – Is a variety of outings that cover plays\, visits to see animals\, fishing and many more idea. Each outing requires money – bring 20.00 each time
URL:https://clwalkerton.org/event/adventures/2026-07-30/
CATEGORIES:Community Participation
ATTACH;FMTTYPE=image/jpeg:https://clwalkerton.org/wp-content/uploads/2025/04/adventure.jpg
END:VEVENT
BEGIN:VEVENT
DTSTART;TZID=America/Toronto:20260806T090000
DTEND;TZID=America/Toronto:20260806T150000
DTSTAMP:20260422T173456
CREATED:20260422T180029Z
LAST-MODIFIED:20260422T180029Z
UID:10001922-1786006800-1786028400@clwalkerton.org
SUMMARY:Adventures
DESCRIPTION:Adventures – Is a variety of outings that cover plays\, visits to see animals\, fishing and many more idea. Each outing requires money – bring 20.00 each time
URL:https://clwalkerton.org/event/adventures/2026-08-06/
CATEGORIES:Community Participation
ATTACH;FMTTYPE=image/jpeg:https://clwalkerton.org/wp-content/uploads/2025/04/adventure.jpg
END:VEVENT
BEGIN:VEVENT
DTSTART;TZID=America/Toronto:20260813T090000
DTEND;TZID=America/Toronto:20260813T150000
DTSTAMP:20260422T173456
CREATED:20260422T180029Z
LAST-MODIFIED:20260422T180029Z
UID:10001923-1786611600-1786633200@clwalkerton.org
SUMMARY:Adventures
DESCRIPTION:Adventures – Is a variety of outings that cover plays\, visits to see animals\, fishing and many more idea. Each outing requires money – bring 20.00 each time
URL:https://clwalkerton.org/event/adventures/2026-08-13/
CATEGORIES:Community Participation
ATTACH;FMTTYPE=image/jpeg:https://clwalkerton.org/wp-content/uploads/2025/04/adventure.jpg
END:VEVENT
BEGIN:VEVENT
DTSTART;TZID=America/Toronto:20260820T090000
DTEND;TZID=America/Toronto:20260820T150000
DTSTAMP:20260422T173456
CREATED:20260422T180029Z
LAST-MODIFIED:20260422T180029Z
UID:10001924-1787216400-1787238000@clwalkerton.org
SUMMARY:Adventures
DESCRIPTION:Adventures – Is a variety of outings that cover plays\, visits to see animals\, fishing and many more idea. Each outing requires money – bring 20.00 each time
URL:https://clwalkerton.org/event/adventures/2026-08-20/
CATEGORIES:Community Participation
ATTACH;FMTTYPE=image/jpeg:https://clwalkerton.org/wp-content/uploads/2025/04/adventure.jpg
END:VEVENT
BEGIN:VEVENT
DTSTART;TZID=America/Toronto:20260827T090000
DTEND;TZID=America/Toronto:20260827T150000
DTSTAMP:20260422T173456
CREATED:20260422T180029Z
LAST-MODIFIED:20260422T180029Z
UID:10001925-1787821200-1787842800@clwalkerton.org
SUMMARY:Adventures
DESCRIPTION:Adventures – Is a variety of outings that cover plays\, visits to see animals\, fishing and many more idea. Each outing requires money – bring 20.00 each time
URL:https://clwalkerton.org/event/adventures/2026-08-27/
CATEGORIES:Community Participation
ATTACH;FMTTYPE=image/jpeg:https://clwalkerton.org/wp-content/uploads/2025/04/adventure.jpg
END:VEVENT
END:VCALENDAR