BEGIN:VCALENDAR
VERSION:2.0
PRODID:-//Community Living Walkerton and District - ECPv6.15.18//NONSGML v1.0//EN
CALSCALE:GREGORIAN
METHOD:PUBLISH
X-WR-CALNAME:Community Living Walkerton and District
X-ORIGINAL-URL:https://clwalkerton.org
X-WR-CALDESC:Events for Community Living Walkerton and District
REFRESH-INTERVAL;VALUE=DURATION:PT1H
X-Robots-Tag:noindex
X-PUBLISHED-TTL:PT1H
BEGIN:VTIMEZONE
TZID:America/Toronto
BEGIN:DAYLIGHT
TZOFFSETFROM:-0500
TZOFFSETTO:-0400
TZNAME:EDT
DTSTART:20250309T070000
END:DAYLIGHT
BEGIN:STANDARD
TZOFFSETFROM:-0400
TZOFFSETTO:-0500
TZNAME:EST
DTSTART:20251102T060000
END:STANDARD
BEGIN:DAYLIGHT
TZOFFSETFROM:-0500
TZOFFSETTO:-0400
TZNAME:EDT
DTSTART:20260308T070000
END:DAYLIGHT
BEGIN:STANDARD
TZOFFSETFROM:-0400
TZOFFSETTO:-0500
TZNAME:EST
DTSTART:20261101T060000
END:STANDARD
BEGIN:DAYLIGHT
TZOFFSETFROM:-0500
TZOFFSETTO:-0400
TZNAME:EDT
DTSTART:20270314T070000
END:DAYLIGHT
BEGIN:STANDARD
TZOFFSETFROM:-0400
TZOFFSETTO:-0500
TZNAME:EST
DTSTART:20271107T060000
END:STANDARD
END:VTIMEZONE
BEGIN:VEVENT
DTSTART;TZID=America/Toronto:20260603T130000
DTEND;TZID=America/Toronto:20260603T150000
DTSTAMP:20260422T173311
CREATED:20260422T174744Z
LAST-MODIFIED:20260422T174744Z
UID:10001889-1780491600-1780498800@clwalkerton.org
SUMMARY:For the Love of Books
DESCRIPTION:For the Love of Books– Together the group will visit the local library to pick out books of interest to read together throughout the weeks.
URL:https://clwalkerton.org/event/for-the-love-of-books-2/2026-06-03/
CATEGORIES:Community Participation
ATTACH;FMTTYPE=image/jpeg:https://clwalkerton.org/wp-content/uploads/2025/01/library.jpg
END:VEVENT
BEGIN:VEVENT
DTSTART;TZID=America/Toronto:20260610T130000
DTEND;TZID=America/Toronto:20260610T150000
DTSTAMP:20260422T173311
CREATED:20260422T174744Z
LAST-MODIFIED:20260422T174744Z
UID:10001890-1781096400-1781103600@clwalkerton.org
SUMMARY:For the Love of Books
DESCRIPTION:For the Love of Books– Together the group will visit the local library to pick out books of interest to read together throughout the weeks.
URL:https://clwalkerton.org/event/for-the-love-of-books-2/2026-06-10/
CATEGORIES:Community Participation
ATTACH;FMTTYPE=image/jpeg:https://clwalkerton.org/wp-content/uploads/2025/01/library.jpg
END:VEVENT
BEGIN:VEVENT
DTSTART;TZID=America/Toronto:20260617T130000
DTEND;TZID=America/Toronto:20260617T150000
DTSTAMP:20260422T173311
CREATED:20260422T174744Z
LAST-MODIFIED:20260422T174744Z
UID:10001891-1781701200-1781708400@clwalkerton.org
SUMMARY:For the Love of Books
DESCRIPTION:For the Love of Books– Together the group will visit the local library to pick out books of interest to read together throughout the weeks.
URL:https://clwalkerton.org/event/for-the-love-of-books-2/2026-06-17/
CATEGORIES:Community Participation
ATTACH;FMTTYPE=image/jpeg:https://clwalkerton.org/wp-content/uploads/2025/01/library.jpg
END:VEVENT
BEGIN:VEVENT
DTSTART;TZID=America/Toronto:20260624T130000
DTEND;TZID=America/Toronto:20260624T150000
DTSTAMP:20260422T173311
CREATED:20260422T174744Z
LAST-MODIFIED:20260422T174744Z
UID:10001892-1782306000-1782313200@clwalkerton.org
SUMMARY:For the Love of Books
DESCRIPTION:For the Love of Books– Together the group will visit the local library to pick out books of interest to read together throughout the weeks.
URL:https://clwalkerton.org/event/for-the-love-of-books-2/2026-06-24/
CATEGORIES:Community Participation
ATTACH;FMTTYPE=image/jpeg:https://clwalkerton.org/wp-content/uploads/2025/01/library.jpg
END:VEVENT
BEGIN:VEVENT
DTSTART;TZID=America/Toronto:20260708T130000
DTEND;TZID=America/Toronto:20260708T150000
DTSTAMP:20260422T173311
CREATED:20260422T174744Z
LAST-MODIFIED:20260422T174744Z
UID:10001893-1783515600-1783522800@clwalkerton.org
SUMMARY:For the Love of Books
DESCRIPTION:For the Love of Books– Together the group will visit the local library to pick out books of interest to read together throughout the weeks.
URL:https://clwalkerton.org/event/for-the-love-of-books-2/2026-07-08/
CATEGORIES:Community Participation
ATTACH;FMTTYPE=image/jpeg:https://clwalkerton.org/wp-content/uploads/2025/01/library.jpg
END:VEVENT
BEGIN:VEVENT
DTSTART;TZID=America/Toronto:20260715T130000
DTEND;TZID=America/Toronto:20260715T150000
DTSTAMP:20260422T173311
CREATED:20260422T174744Z
LAST-MODIFIED:20260422T174744Z
UID:10001894-1784120400-1784127600@clwalkerton.org
SUMMARY:For the Love of Books
DESCRIPTION:For the Love of Books– Together the group will visit the local library to pick out books of interest to read together throughout the weeks.
URL:https://clwalkerton.org/event/for-the-love-of-books-2/2026-07-15/
CATEGORIES:Community Participation
ATTACH;FMTTYPE=image/jpeg:https://clwalkerton.org/wp-content/uploads/2025/01/library.jpg
END:VEVENT
BEGIN:VEVENT
DTSTART;TZID=America/Toronto:20260722T130000
DTEND;TZID=America/Toronto:20260722T150000
DTSTAMP:20260422T173311
CREATED:20260422T174744Z
LAST-MODIFIED:20260422T174744Z
UID:10001895-1784725200-1784732400@clwalkerton.org
SUMMARY:For the Love of Books
DESCRIPTION:For the Love of Books– Together the group will visit the local library to pick out books of interest to read together throughout the weeks.
URL:https://clwalkerton.org/event/for-the-love-of-books-2/2026-07-22/
CATEGORIES:Community Participation
ATTACH;FMTTYPE=image/jpeg:https://clwalkerton.org/wp-content/uploads/2025/01/library.jpg
END:VEVENT
BEGIN:VEVENT
DTSTART;TZID=America/Toronto:20260729T130000
DTEND;TZID=America/Toronto:20260729T150000
DTSTAMP:20260422T173311
CREATED:20260422T174744Z
LAST-MODIFIED:20260422T174744Z
UID:10001896-1785330000-1785337200@clwalkerton.org
SUMMARY:For the Love of Books
DESCRIPTION:For the Love of Books– Together the group will visit the local library to pick out books of interest to read together throughout the weeks.
URL:https://clwalkerton.org/event/for-the-love-of-books-2/2026-07-29/
CATEGORIES:Community Participation
ATTACH;FMTTYPE=image/jpeg:https://clwalkerton.org/wp-content/uploads/2025/01/library.jpg
END:VEVENT
BEGIN:VEVENT
DTSTART;TZID=America/Toronto:20260805T130000
DTEND;TZID=America/Toronto:20260805T150000
DTSTAMP:20260422T173311
CREATED:20260422T174744Z
LAST-MODIFIED:20260422T174744Z
UID:10001897-1785934800-1785942000@clwalkerton.org
SUMMARY:For the Love of Books
DESCRIPTION:For the Love of Books– Together the group will visit the local library to pick out books of interest to read together throughout the weeks.
URL:https://clwalkerton.org/event/for-the-love-of-books-2/2026-08-05/
CATEGORIES:Community Participation
ATTACH;FMTTYPE=image/jpeg:https://clwalkerton.org/wp-content/uploads/2025/01/library.jpg
END:VEVENT
BEGIN:VEVENT
DTSTART;TZID=America/Toronto:20260812T130000
DTEND;TZID=America/Toronto:20260812T150000
DTSTAMP:20260422T173311
CREATED:20260422T174744Z
LAST-MODIFIED:20260422T174744Z
UID:10001898-1786539600-1786546800@clwalkerton.org
SUMMARY:For the Love of Books
DESCRIPTION:For the Love of Books– Together the group will visit the local library to pick out books of interest to read together throughout the weeks.
URL:https://clwalkerton.org/event/for-the-love-of-books-2/2026-08-12/
CATEGORIES:Community Participation
ATTACH;FMTTYPE=image/jpeg:https://clwalkerton.org/wp-content/uploads/2025/01/library.jpg
END:VEVENT
BEGIN:VEVENT
DTSTART;TZID=America/Toronto:20260819T130000
DTEND;TZID=America/Toronto:20260819T150000
DTSTAMP:20260422T173311
CREATED:20260422T174744Z
LAST-MODIFIED:20260422T174744Z
UID:10001899-1787144400-1787151600@clwalkerton.org
SUMMARY:For the Love of Books
DESCRIPTION:For the Love of Books– Together the group will visit the local library to pick out books of interest to read together throughout the weeks.
URL:https://clwalkerton.org/event/for-the-love-of-books-2/2026-08-19/
CATEGORIES:Community Participation
ATTACH;FMTTYPE=image/jpeg:https://clwalkerton.org/wp-content/uploads/2025/01/library.jpg
END:VEVENT
BEGIN:VEVENT
DTSTART;TZID=America/Toronto:20260826T130000
DTEND;TZID=America/Toronto:20260826T150000
DTSTAMP:20260422T173311
CREATED:20260422T174744Z
LAST-MODIFIED:20260422T174744Z
UID:10001900-1787749200-1787756400@clwalkerton.org
SUMMARY:For the Love of Books
DESCRIPTION:For the Love of Books– Together the group will visit the local library to pick out books of interest to read together throughout the weeks.
URL:https://clwalkerton.org/event/for-the-love-of-books-2/2026-08-26/
CATEGORIES:Community Participation
ATTACH;FMTTYPE=image/jpeg:https://clwalkerton.org/wp-content/uploads/2025/01/library.jpg
END:VEVENT
END:VCALENDAR