BEGIN:VCALENDAR
VERSION:2.0
PRODID:-//Community Living Walkerton and District - ECPv6.15.18//NONSGML v1.0//EN
CALSCALE:GREGORIAN
METHOD:PUBLISH
X-WR-CALNAME:Community Living Walkerton and District
X-ORIGINAL-URL:https://clwalkerton.org
X-WR-CALDESC:Events for Community Living Walkerton and District
REFRESH-INTERVAL;VALUE=DURATION:PT1H
X-Robots-Tag:noindex
X-PUBLISHED-TTL:PT1H
BEGIN:VTIMEZONE
TZID:America/Toronto
BEGIN:DAYLIGHT
TZOFFSETFROM:-0500
TZOFFSETTO:-0400
TZNAME:EDT
DTSTART:20250309T070000
END:DAYLIGHT
BEGIN:STANDARD
TZOFFSETFROM:-0400
TZOFFSETTO:-0500
TZNAME:EST
DTSTART:20251102T060000
END:STANDARD
BEGIN:DAYLIGHT
TZOFFSETFROM:-0500
TZOFFSETTO:-0400
TZNAME:EDT
DTSTART:20260308T070000
END:DAYLIGHT
BEGIN:STANDARD
TZOFFSETFROM:-0400
TZOFFSETTO:-0500
TZNAME:EST
DTSTART:20261101T060000
END:STANDARD
BEGIN:DAYLIGHT
TZOFFSETFROM:-0500
TZOFFSETTO:-0400
TZNAME:EDT
DTSTART:20270314T070000
END:DAYLIGHT
BEGIN:STANDARD
TZOFFSETFROM:-0400
TZOFFSETTO:-0500
TZNAME:EST
DTSTART:20271107T060000
END:STANDARD
END:VTIMEZONE
BEGIN:VEVENT
DTSTART;TZID=America/Toronto:20260603T110000
DTEND;TZID=America/Toronto:20260603T150000
DTSTAMP:20260423T165147
CREATED:20260422T174143Z
LAST-MODIFIED:20260422T174143Z
UID:10001877-1780484400-1780498800@clwalkerton.org
SUMMARY:Bowling
DESCRIPTION:Bowling – Bowling will be offered in Port Elgin (bring $10.00) and a bag lunch that day for the 11-week calendar. We will drive you home
URL:https://clwalkerton.org/event/bowling-2/2026-06-03/
CATEGORIES:Community Participation
ATTACH;FMTTYPE=image/jpeg:https://clwalkerton.org/wp-content/uploads/2025/01/bowling.jpg
END:VEVENT
BEGIN:VEVENT
DTSTART;TZID=America/Toronto:20260610T110000
DTEND;TZID=America/Toronto:20260610T150000
DTSTAMP:20260423T165147
CREATED:20260422T174143Z
LAST-MODIFIED:20260422T174143Z
UID:10001878-1781089200-1781103600@clwalkerton.org
SUMMARY:Bowling
DESCRIPTION:Bowling – Bowling will be offered in Port Elgin (bring $10.00) and a bag lunch that day for the 11-week calendar. We will drive you home
URL:https://clwalkerton.org/event/bowling-2/2026-06-10/
CATEGORIES:Community Participation
ATTACH;FMTTYPE=image/jpeg:https://clwalkerton.org/wp-content/uploads/2025/01/bowling.jpg
END:VEVENT
BEGIN:VEVENT
DTSTART;TZID=America/Toronto:20260617T110000
DTEND;TZID=America/Toronto:20260617T150000
DTSTAMP:20260423T165147
CREATED:20260422T174143Z
LAST-MODIFIED:20260422T174143Z
UID:10001879-1781694000-1781708400@clwalkerton.org
SUMMARY:Bowling
DESCRIPTION:Bowling – Bowling will be offered in Port Elgin (bring $10.00) and a bag lunch that day for the 11-week calendar. We will drive you home
URL:https://clwalkerton.org/event/bowling-2/2026-06-17/
CATEGORIES:Community Participation
ATTACH;FMTTYPE=image/jpeg:https://clwalkerton.org/wp-content/uploads/2025/01/bowling.jpg
END:VEVENT
BEGIN:VEVENT
DTSTART;TZID=America/Toronto:20260624T110000
DTEND;TZID=America/Toronto:20260624T150000
DTSTAMP:20260423T165147
CREATED:20260422T174143Z
LAST-MODIFIED:20260422T174143Z
UID:10001880-1782298800-1782313200@clwalkerton.org
SUMMARY:Bowling
DESCRIPTION:Bowling – Bowling will be offered in Port Elgin (bring $10.00) and a bag lunch that day for the 11-week calendar. We will drive you home
URL:https://clwalkerton.org/event/bowling-2/2026-06-24/
CATEGORIES:Community Participation
ATTACH;FMTTYPE=image/jpeg:https://clwalkerton.org/wp-content/uploads/2025/01/bowling.jpg
END:VEVENT
BEGIN:VEVENT
DTSTART;TZID=America/Toronto:20260708T110000
DTEND;TZID=America/Toronto:20260708T150000
DTSTAMP:20260423T165147
CREATED:20260422T174143Z
LAST-MODIFIED:20260422T174143Z
UID:10001881-1783508400-1783522800@clwalkerton.org
SUMMARY:Bowling
DESCRIPTION:Bowling – Bowling will be offered in Port Elgin (bring $10.00) and a bag lunch that day for the 11-week calendar. We will drive you home
URL:https://clwalkerton.org/event/bowling-2/2026-07-08/
CATEGORIES:Community Participation
ATTACH;FMTTYPE=image/jpeg:https://clwalkerton.org/wp-content/uploads/2025/01/bowling.jpg
END:VEVENT
BEGIN:VEVENT
DTSTART;TZID=America/Toronto:20260715T110000
DTEND;TZID=America/Toronto:20260715T150000
DTSTAMP:20260423T165147
CREATED:20260422T174143Z
LAST-MODIFIED:20260422T174143Z
UID:10001882-1784113200-1784127600@clwalkerton.org
SUMMARY:Bowling
DESCRIPTION:Bowling – Bowling will be offered in Port Elgin (bring $10.00) and a bag lunch that day for the 11-week calendar. We will drive you home
URL:https://clwalkerton.org/event/bowling-2/2026-07-15/
CATEGORIES:Community Participation
ATTACH;FMTTYPE=image/jpeg:https://clwalkerton.org/wp-content/uploads/2025/01/bowling.jpg
END:VEVENT
BEGIN:VEVENT
DTSTART;TZID=America/Toronto:20260722T110000
DTEND;TZID=America/Toronto:20260722T150000
DTSTAMP:20260423T165147
CREATED:20260422T174143Z
LAST-MODIFIED:20260422T174143Z
UID:10001883-1784718000-1784732400@clwalkerton.org
SUMMARY:Bowling
DESCRIPTION:Bowling – Bowling will be offered in Port Elgin (bring $10.00) and a bag lunch that day for the 11-week calendar. We will drive you home
URL:https://clwalkerton.org/event/bowling-2/2026-07-22/
CATEGORIES:Community Participation
ATTACH;FMTTYPE=image/jpeg:https://clwalkerton.org/wp-content/uploads/2025/01/bowling.jpg
END:VEVENT
BEGIN:VEVENT
DTSTART;TZID=America/Toronto:20260729T110000
DTEND;TZID=America/Toronto:20260729T150000
DTSTAMP:20260423T165147
CREATED:20260422T174143Z
LAST-MODIFIED:20260422T174143Z
UID:10001884-1785322800-1785337200@clwalkerton.org
SUMMARY:Bowling
DESCRIPTION:Bowling – Bowling will be offered in Port Elgin (bring $10.00) and a bag lunch that day for the 11-week calendar. We will drive you home
URL:https://clwalkerton.org/event/bowling-2/2026-07-29/
CATEGORIES:Community Participation
ATTACH;FMTTYPE=image/jpeg:https://clwalkerton.org/wp-content/uploads/2025/01/bowling.jpg
END:VEVENT
BEGIN:VEVENT
DTSTART;TZID=America/Toronto:20260805T110000
DTEND;TZID=America/Toronto:20260805T150000
DTSTAMP:20260423T165147
CREATED:20260422T174143Z
LAST-MODIFIED:20260422T174143Z
UID:10001885-1785927600-1785942000@clwalkerton.org
SUMMARY:Bowling
DESCRIPTION:Bowling – Bowling will be offered in Port Elgin (bring $10.00) and a bag lunch that day for the 11-week calendar. We will drive you home
URL:https://clwalkerton.org/event/bowling-2/2026-08-05/
CATEGORIES:Community Participation
ATTACH;FMTTYPE=image/jpeg:https://clwalkerton.org/wp-content/uploads/2025/01/bowling.jpg
END:VEVENT
BEGIN:VEVENT
DTSTART;TZID=America/Toronto:20260812T110000
DTEND;TZID=America/Toronto:20260812T150000
DTSTAMP:20260423T165147
CREATED:20260422T174143Z
LAST-MODIFIED:20260422T174143Z
UID:10001886-1786532400-1786546800@clwalkerton.org
SUMMARY:Bowling
DESCRIPTION:Bowling – Bowling will be offered in Port Elgin (bring $10.00) and a bag lunch that day for the 11-week calendar. We will drive you home
URL:https://clwalkerton.org/event/bowling-2/2026-08-12/
CATEGORIES:Community Participation
ATTACH;FMTTYPE=image/jpeg:https://clwalkerton.org/wp-content/uploads/2025/01/bowling.jpg
END:VEVENT
BEGIN:VEVENT
DTSTART;TZID=America/Toronto:20260819T110000
DTEND;TZID=America/Toronto:20260819T150000
DTSTAMP:20260423T165147
CREATED:20260422T174143Z
LAST-MODIFIED:20260422T174143Z
UID:10001887-1787137200-1787151600@clwalkerton.org
SUMMARY:Bowling
DESCRIPTION:Bowling – Bowling will be offered in Port Elgin (bring $10.00) and a bag lunch that day for the 11-week calendar. We will drive you home
URL:https://clwalkerton.org/event/bowling-2/2026-08-19/
CATEGORIES:Community Participation
ATTACH;FMTTYPE=image/jpeg:https://clwalkerton.org/wp-content/uploads/2025/01/bowling.jpg
END:VEVENT
BEGIN:VEVENT
DTSTART;TZID=America/Toronto:20260826T110000
DTEND;TZID=America/Toronto:20260826T150000
DTSTAMP:20260423T165147
CREATED:20260422T174143Z
LAST-MODIFIED:20260422T174143Z
UID:10001888-1787742000-1787756400@clwalkerton.org
SUMMARY:Bowling
DESCRIPTION:Bowling – Bowling will be offered in Port Elgin (bring $10.00) and a bag lunch that day for the 11-week calendar. We will drive you home
URL:https://clwalkerton.org/event/bowling-2/2026-08-26/
CATEGORIES:Community Participation
ATTACH;FMTTYPE=image/jpeg:https://clwalkerton.org/wp-content/uploads/2025/01/bowling.jpg
END:VEVENT
END:VCALENDAR