BEGIN:VCALENDAR
VERSION:2.0
PRODID:-//Community Living Walkerton and District - ECPv6.15.18//NONSGML v1.0//EN
CALSCALE:GREGORIAN
METHOD:PUBLISH
X-WR-CALNAME:Community Living Walkerton and District
X-ORIGINAL-URL:https://clwalkerton.org
X-WR-CALDESC:Events for Community Living Walkerton and District
REFRESH-INTERVAL;VALUE=DURATION:PT1H
X-Robots-Tag:noindex
X-PUBLISHED-TTL:PT1H
BEGIN:VTIMEZONE
TZID:America/Toronto
BEGIN:DAYLIGHT
TZOFFSETFROM:-0500
TZOFFSETTO:-0400
TZNAME:EDT
DTSTART:20250309T070000
END:DAYLIGHT
BEGIN:STANDARD
TZOFFSETFROM:-0400
TZOFFSETTO:-0500
TZNAME:EST
DTSTART:20251102T060000
END:STANDARD
BEGIN:DAYLIGHT
TZOFFSETFROM:-0500
TZOFFSETTO:-0400
TZNAME:EDT
DTSTART:20260308T070000
END:DAYLIGHT
BEGIN:STANDARD
TZOFFSETFROM:-0400
TZOFFSETTO:-0500
TZNAME:EST
DTSTART:20261101T060000
END:STANDARD
BEGIN:DAYLIGHT
TZOFFSETFROM:-0500
TZOFFSETTO:-0400
TZNAME:EDT
DTSTART:20270314T070000
END:DAYLIGHT
BEGIN:STANDARD
TZOFFSETFROM:-0400
TZOFFSETTO:-0500
TZNAME:EST
DTSTART:20271107T060000
END:STANDARD
END:VTIMEZONE
BEGIN:VEVENT
DTSTART;TZID=America/Toronto:20260616T133000
DTEND;TZID=America/Toronto:20260616T150000
DTSTAMP:20260422T210051
CREATED:20260422T171057Z
LAST-MODIFIED:20260422T171057Z
UID:10001861-1781616600-1781622000@clwalkerton.org
SUMMARY:Visits With Remi the Dog
DESCRIPTION:Dog Therapy -visits with Remi on June 16\, July 28 and Aug 18 (130-3pm). A chance to interact with a trained dog that provides affection\, comfort and support to all individuals.
URL:https://clwalkerton.org/event/visits-with-remi-the-dog/2026-06-16/
CATEGORIES:Community Participation
ATTACH;FMTTYPE=image/jpeg:https://clwalkerton.org/wp-content/uploads/2025/01/visit-w-remi.jpg
END:VEVENT
BEGIN:VEVENT
DTSTART;TZID=America/Toronto:20260728T133000
DTEND;TZID=America/Toronto:20260728T150000
DTSTAMP:20260422T210051
CREATED:20260422T171057Z
LAST-MODIFIED:20260422T171057Z
UID:10001862-1785245400-1785250800@clwalkerton.org
SUMMARY:Visits With Remi the Dog
DESCRIPTION:Dog Therapy -visits with Remi on June 16\, July 28 and Aug 18 (130-3pm). A chance to interact with a trained dog that provides affection\, comfort and support to all individuals.
URL:https://clwalkerton.org/event/visits-with-remi-the-dog/2026-07-28/
CATEGORIES:Community Participation
ATTACH;FMTTYPE=image/jpeg:https://clwalkerton.org/wp-content/uploads/2025/01/visit-w-remi.jpg
END:VEVENT
BEGIN:VEVENT
DTSTART;TZID=America/Toronto:20260818T133000
DTEND;TZID=America/Toronto:20260818T150000
DTSTAMP:20260422T210051
CREATED:20260422T171057Z
LAST-MODIFIED:20260422T171057Z
UID:10001863-1787059800-1787065200@clwalkerton.org
SUMMARY:Visits With Remi the Dog
DESCRIPTION:Dog Therapy -visits with Remi on June 16\, July 28 and Aug 18 (130-3pm). A chance to interact with a trained dog that provides affection\, comfort and support to all individuals.
URL:https://clwalkerton.org/event/visits-with-remi-the-dog/2026-08-18/
CATEGORIES:Community Participation
ATTACH;FMTTYPE=image/jpeg:https://clwalkerton.org/wp-content/uploads/2025/01/visit-w-remi.jpg
END:VEVENT
END:VCALENDAR