BEGIN:VCALENDAR
VERSION:2.0
PRODID:-//Community Living Walkerton and District - ECPv6.15.18//NONSGML v1.0//EN
CALSCALE:GREGORIAN
METHOD:PUBLISH
X-ORIGINAL-URL:https://clwalkerton.org
X-WR-CALDESC:Events for Community Living Walkerton and District
REFRESH-INTERVAL;VALUE=DURATION:PT1H
X-Robots-Tag:noindex
X-PUBLISHED-TTL:PT1H
BEGIN:VTIMEZONE
TZID:America/Toronto
BEGIN:DAYLIGHT
TZOFFSETFROM:-0500
TZOFFSETTO:-0400
TZNAME:EDT
DTSTART:20250309T070000
END:DAYLIGHT
BEGIN:STANDARD
TZOFFSETFROM:-0400
TZOFFSETTO:-0500
TZNAME:EST
DTSTART:20251102T060000
END:STANDARD
BEGIN:DAYLIGHT
TZOFFSETFROM:-0500
TZOFFSETTO:-0400
TZNAME:EDT
DTSTART:20260308T070000
END:DAYLIGHT
BEGIN:STANDARD
TZOFFSETFROM:-0400
TZOFFSETTO:-0500
TZNAME:EST
DTSTART:20261101T060000
END:STANDARD
BEGIN:DAYLIGHT
TZOFFSETFROM:-0500
TZOFFSETTO:-0400
TZNAME:EDT
DTSTART:20270314T070000
END:DAYLIGHT
BEGIN:STANDARD
TZOFFSETFROM:-0400
TZOFFSETTO:-0500
TZNAME:EST
DTSTART:20271107T060000
END:STANDARD
END:VTIMEZONE
BEGIN:VEVENT
DTSTART;TZID=America/Toronto:20260617T130000
DTEND;TZID=America/Toronto:20260617T150000
DTSTAMP:20260422T133504
CREATED:20250725T182809Z
LAST-MODIFIED:20250725T182809Z
UID:10001097-1781701200-1781708400@clwalkerton.org
SUMMARY:Games at the HUB
DESCRIPTION:
URL:https://clwalkerton.org/event/games-at-the-hub/2026-06-17/
CATEGORIES:Community Participation
ATTACH;FMTTYPE=image/jpeg:https://clwalkerton.org/wp-content/uploads/2025/01/games.jpg
END:VEVENT
BEGIN:VEVENT
DTSTART;TZID=America/Toronto:20260618T130000
DTEND;TZID=America/Toronto:20260618T150000
DTSTAMP:20260422T133504
CREATED:20251030T160549Z
LAST-MODIFIED:20251030T160549Z
UID:10001451-1781787600-1781794800@clwalkerton.org
SUMMARY:Artistic Expression
DESCRIPTION:Bring your own project and let’s get creative together.
URL:https://clwalkerton.org/event/artistic-expression/2026-06-18/
CATEGORIES:Community Participation
ATTACH;FMTTYPE=image/jpeg:https://clwalkerton.org/wp-content/uploads/2025/10/art-project.jpg
END:VEVENT
BEGIN:VEVENT
DTSTART;TZID=America/Toronto:20260622T090000
DTEND;TZID=America/Toronto:20260622T150000
DTSTAMP:20260422T133504
CREATED:20260422T164033Z
LAST-MODIFIED:20260422T164033Z
UID:10001790-1782118800-1782140400@clwalkerton.org
SUMMARY:Wave Warriors
DESCRIPTION:Wave Warriors – Spending time at a beach of their choice while enjoying their picnic lunch. Bring Money in case a drink is wanted and a picnic lunch
URL:https://clwalkerton.org/event/wave-warriors/2026-06-22/
CATEGORIES:Community Participation
ATTACH;FMTTYPE=image/jpeg:https://clwalkerton.org/wp-content/uploads/2025/04/beach.jpg
END:VEVENT
BEGIN:VEVENT
DTSTART;TZID=America/Toronto:20260622T100000
DTEND;TZID=America/Toronto:20260622T120000
DTSTAMP:20260422T133504
CREATED:20260422T163838Z
LAST-MODIFIED:20260422T163838Z
UID:10001777-1782122400-1782129600@clwalkerton.org
SUMMARY:Gardening/Patio
DESCRIPTION:Gardening/Patio – Taking care of the garden and enjoying time on Patio
URL:https://clwalkerton.org/event/gardening-patio/2026-06-22/
CATEGORIES:Community Participation
END:VEVENT
BEGIN:VEVENT
DTSTART;TZID=America/Toronto:20260622T130000
DTEND;TZID=America/Toronto:20260622T150000
DTSTAMP:20260422T133504
CREATED:20260422T165622Z
LAST-MODIFIED:20260422T165622Z
UID:10001803-1782133200-1782140400@clwalkerton.org
SUMMARY:Ladies Club
DESCRIPTION:Ladies Club– COST: $60.00 (3 months) A great way to get ladies together to socialize with some friends
URL:https://clwalkerton.org/event/ladies-club-6/2026-06-22/
CATEGORIES:Community Participation
ATTACH;FMTTYPE=image/jpeg:https://clwalkerton.org/wp-content/uploads/2025/03/ladies-club.jpg
END:VEVENT
BEGIN:VEVENT
DTSTART;TZID=America/Toronto:20260622T130000
DTEND;TZID=America/Toronto:20260622T150000
DTSTAMP:20260422T133504
CREATED:20260422T165809Z
LAST-MODIFIED:20260422T165809Z
UID:10001816-1782133200-1782140400@clwalkerton.org
SUMMARY:Men's Club
DESCRIPTION:Guy’s Club – A great time being social with some friends. $20.00 for 3 months
URL:https://clwalkerton.org/event/mens-club-6/2026-06-22/
CATEGORIES:Community Participation
ATTACH;FMTTYPE=image/jpeg:https://clwalkerton.org/wp-content/uploads/2025/03/mens-club.jpg
END:VEVENT
BEGIN:VEVENT
DTSTART;TZID=America/Toronto:20260623T090000
DTEND;TZID=America/Toronto:20260623T150000
DTSTAMP:20260422T133504
CREATED:20260422T170238Z
LAST-MODIFIED:20260422T170238Z
UID:10001842-1782205200-1782226800@clwalkerton.org
SUMMARY:Summer Markets & Geo Caching
DESCRIPTION:Markets/parks/Geo Caching – will be rotated over the 3 months. Please bring money and Picinic lunch if it is a 9-3pm day.
URL:https://clwalkerton.org/event/summer-markets-geo-caching/2026-06-23/
END:VEVENT
BEGIN:VEVENT
DTSTART;TZID=America/Toronto:20260623T100000
DTEND;TZID=America/Toronto:20260623T120000
DTSTAMP:20260422T133504
CREATED:20260422T170014Z
LAST-MODIFIED:20260422T170014Z
UID:10001829-1782208800-1782216000@clwalkerton.org
SUMMARY:Karaoke
DESCRIPTION:Karaoke – Show your talent by singing your favourite song
URL:https://clwalkerton.org/event/karaoke-5/2026-06-23/
CATEGORIES:Community Participation
END:VEVENT
BEGIN:VEVENT
DTSTART;TZID=America/Toronto:20260623T130000
DTEND;TZID=America/Toronto:20260623T150000
DTSTAMP:20260422T133504
CREATED:20260422T173438Z
LAST-MODIFIED:20260422T173438Z
UID:10001864-1782219600-1782226800@clwalkerton.org
SUMMARY:Yard Games
DESCRIPTION:Yard Games – Enjoys games in the back yard. Challenging you best game with yourself or others. \n \n 
URL:https://clwalkerton.org/event/yard-games/
CATEGORIES:Community Participation
ATTACH;FMTTYPE=image/jpeg:https://clwalkerton.org/wp-content/uploads/2026/04/yard-games.jpg
END:VEVENT
BEGIN:VEVENT
DTSTART;TZID=America/Toronto:20260624T100000
DTEND;TZID=America/Toronto:20260624T120000
DTSTAMP:20260422T133504
CREATED:20250725T180320Z
LAST-MODIFIED:20250725T180320Z
UID:10000970-1782295200-1782302400@clwalkerton.org
SUMMARY:Library
DESCRIPTION:
URL:https://clwalkerton.org/event/library/2026-06-24/
CATEGORIES:Community Participation
ATTACH;FMTTYPE=image/jpeg:https://clwalkerton.org/wp-content/uploads/2025/01/library.jpg
END:VEVENT
BEGIN:VEVENT
DTSTART;TZID=America/Toronto:20260624T110000
DTEND;TZID=America/Toronto:20260624T150000
DTSTAMP:20260422T133504
CREATED:20250725T181055Z
LAST-MODIFIED:20250725T181055Z
UID:10001034-1782298800-1782313200@clwalkerton.org
SUMMARY:Bowling in Port Elgin
DESCRIPTION:
URL:https://clwalkerton.org/event/bowling-in-port-elgin-3/2026-06-24/
CATEGORIES:Community Participation
ATTACH;FMTTYPE=image/jpeg:https://clwalkerton.org/wp-content/uploads/2025/01/bowling.jpg
END:VEVENT
BEGIN:VEVENT
DTSTART;TZID=America/Toronto:20260624T130000
DTEND;TZID=America/Toronto:20260624T150000
DTSTAMP:20260422T133504
CREATED:20250725T182809Z
LAST-MODIFIED:20250725T182809Z
UID:10001098-1782306000-1782313200@clwalkerton.org
SUMMARY:Games at the HUB
DESCRIPTION:
URL:https://clwalkerton.org/event/games-at-the-hub/2026-06-24/
CATEGORIES:Community Participation
ATTACH;FMTTYPE=image/jpeg:https://clwalkerton.org/wp-content/uploads/2025/01/games.jpg
END:VEVENT
BEGIN:VEVENT
DTSTART;TZID=America/Toronto:20260625T130000
DTEND;TZID=America/Toronto:20260625T150000
DTSTAMP:20260422T133504
CREATED:20251030T160549Z
LAST-MODIFIED:20251030T160549Z
UID:10001452-1782392400-1782399600@clwalkerton.org
SUMMARY:Artistic Expression
DESCRIPTION:Bring your own project and let’s get creative together.
URL:https://clwalkerton.org/event/artistic-expression/2026-06-25/
CATEGORIES:Community Participation
ATTACH;FMTTYPE=image/jpeg:https://clwalkerton.org/wp-content/uploads/2025/10/art-project.jpg
END:VEVENT
BEGIN:VEVENT
DTSTART;TZID=America/Toronto:20260629T090000
DTEND;TZID=America/Toronto:20260629T150000
DTSTAMP:20260422T133504
CREATED:20260422T164033Z
LAST-MODIFIED:20260422T164033Z
UID:10001791-1782723600-1782745200@clwalkerton.org
SUMMARY:Wave Warriors
DESCRIPTION:Wave Warriors – Spending time at a beach of their choice while enjoying their picnic lunch. Bring Money in case a drink is wanted and a picnic lunch
URL:https://clwalkerton.org/event/wave-warriors/2026-06-29/
CATEGORIES:Community Participation
ATTACH;FMTTYPE=image/jpeg:https://clwalkerton.org/wp-content/uploads/2025/04/beach.jpg
END:VEVENT
BEGIN:VEVENT
DTSTART;TZID=America/Toronto:20260629T100000
DTEND;TZID=America/Toronto:20260629T120000
DTSTAMP:20260422T133504
CREATED:20260422T163838Z
LAST-MODIFIED:20260422T163838Z
UID:10001778-1782727200-1782734400@clwalkerton.org
SUMMARY:Gardening/Patio
DESCRIPTION:Gardening/Patio – Taking care of the garden and enjoying time on Patio
URL:https://clwalkerton.org/event/gardening-patio/2026-06-29/
CATEGORIES:Community Participation
END:VEVENT
BEGIN:VEVENT
DTSTART;TZID=America/Toronto:20260629T130000
DTEND;TZID=America/Toronto:20260629T150000
DTSTAMP:20260422T133504
CREATED:20260422T165622Z
LAST-MODIFIED:20260422T165622Z
UID:10001804-1782738000-1782745200@clwalkerton.org
SUMMARY:Ladies Club
DESCRIPTION:Ladies Club– COST: $60.00 (3 months) A great way to get ladies together to socialize with some friends
URL:https://clwalkerton.org/event/ladies-club-6/2026-06-29/
CATEGORIES:Community Participation
ATTACH;FMTTYPE=image/jpeg:https://clwalkerton.org/wp-content/uploads/2025/03/ladies-club.jpg
END:VEVENT
BEGIN:VEVENT
DTSTART;TZID=America/Toronto:20260629T130000
DTEND;TZID=America/Toronto:20260629T150000
DTSTAMP:20260422T133504
CREATED:20260422T165809Z
LAST-MODIFIED:20260422T165809Z
UID:10001817-1782738000-1782745200@clwalkerton.org
SUMMARY:Men's Club
DESCRIPTION:Guy’s Club – A great time being social with some friends. $20.00 for 3 months
URL:https://clwalkerton.org/event/mens-club-6/2026-06-29/
CATEGORIES:Community Participation
ATTACH;FMTTYPE=image/jpeg:https://clwalkerton.org/wp-content/uploads/2025/03/mens-club.jpg
END:VEVENT
BEGIN:VEVENT
DTSTART;TZID=America/Toronto:20260630T090000
DTEND;TZID=America/Toronto:20260630T150000
DTSTAMP:20260422T133504
CREATED:20260422T170238Z
LAST-MODIFIED:20260422T170238Z
UID:10001843-1782810000-1782831600@clwalkerton.org
SUMMARY:Summer Markets & Geo Caching
DESCRIPTION:Markets/parks/Geo Caching – will be rotated over the 3 months. Please bring money and Picinic lunch if it is a 9-3pm day.
URL:https://clwalkerton.org/event/summer-markets-geo-caching/2026-06-30/
END:VEVENT
BEGIN:VEVENT
DTSTART;TZID=America/Toronto:20260630T100000
DTEND;TZID=America/Toronto:20260630T120000
DTSTAMP:20260422T133504
CREATED:20260422T170014Z
LAST-MODIFIED:20260422T170014Z
UID:10001830-1782813600-1782820800@clwalkerton.org
SUMMARY:Karaoke
DESCRIPTION:Karaoke – Show your talent by singing your favourite song
URL:https://clwalkerton.org/event/karaoke-5/2026-06-30/
CATEGORIES:Community Participation
END:VEVENT
BEGIN:VEVENT
DTSTART;TZID=America/Toronto:20260630T130000
DTEND;TZID=America/Toronto:20260630T150000
DTSTAMP:20260422T133504
CREATED:20260422T170738Z
LAST-MODIFIED:20260422T170738Z
UID:10001854-1782824400-1782831600@clwalkerton.org
SUMMARY:Smoothie/Strolls /Ice cream
DESCRIPTION:Smoothie/Strolls /Ice cream – learning to make a smoothie Cost $25 for the quarter or enjoy a stroll and treat (Ice cream) for each the outing bring $10
URL:https://clwalkerton.org/event/smoothie-strolls-ice-cream/2026-06-30/
CATEGORIES:Community Participation
ATTACH;FMTTYPE=image/jpeg:https://clwalkerton.org/wp-content/uploads/2025/04/smoothies.jpg
END:VEVENT
BEGIN:VEVENT
DTSTART;TZID=America/Toronto:20260701T100000
DTEND;TZID=America/Toronto:20260701T120000
DTSTAMP:20260422T133504
CREATED:20250725T180320Z
LAST-MODIFIED:20250725T180320Z
UID:10000971-1782900000-1782907200@clwalkerton.org
SUMMARY:Library
DESCRIPTION:
URL:https://clwalkerton.org/event/library/2026-07-01/
CATEGORIES:Community Participation
ATTACH;FMTTYPE=image/jpeg:https://clwalkerton.org/wp-content/uploads/2025/01/library.jpg
END:VEVENT
BEGIN:VEVENT
DTSTART;TZID=America/Toronto:20260701T110000
DTEND;TZID=America/Toronto:20260701T150000
DTSTAMP:20260422T133504
CREATED:20250725T181055Z
LAST-MODIFIED:20250725T181055Z
UID:10001035-1782903600-1782918000@clwalkerton.org
SUMMARY:Bowling in Port Elgin
DESCRIPTION:
URL:https://clwalkerton.org/event/bowling-in-port-elgin-3/2026-07-01/
CATEGORIES:Community Participation
ATTACH;FMTTYPE=image/jpeg:https://clwalkerton.org/wp-content/uploads/2025/01/bowling.jpg
END:VEVENT
BEGIN:VEVENT
DTSTART;TZID=America/Toronto:20260701T130000
DTEND;TZID=America/Toronto:20260701T150000
DTSTAMP:20260422T133504
CREATED:20250725T182809Z
LAST-MODIFIED:20250725T182809Z
UID:10001099-1782910800-1782918000@clwalkerton.org
SUMMARY:Games at the HUB
DESCRIPTION:
URL:https://clwalkerton.org/event/games-at-the-hub/2026-07-01/
CATEGORIES:Community Participation
ATTACH;FMTTYPE=image/jpeg:https://clwalkerton.org/wp-content/uploads/2025/01/games.jpg
END:VEVENT
BEGIN:VEVENT
DTSTART;TZID=America/Toronto:20260702T130000
DTEND;TZID=America/Toronto:20260702T150000
DTSTAMP:20260422T133504
CREATED:20251030T160549Z
LAST-MODIFIED:20251030T160549Z
UID:10001453-1782997200-1783004400@clwalkerton.org
SUMMARY:Artistic Expression
DESCRIPTION:Bring your own project and let’s get creative together.
URL:https://clwalkerton.org/event/artistic-expression/2026-07-02/
CATEGORIES:Community Participation
ATTACH;FMTTYPE=image/jpeg:https://clwalkerton.org/wp-content/uploads/2025/10/art-project.jpg
END:VEVENT
BEGIN:VEVENT
DTSTART;TZID=America/Toronto:20260706T090000
DTEND;TZID=America/Toronto:20260706T150000
DTSTAMP:20260422T133504
CREATED:20260422T164033Z
LAST-MODIFIED:20260422T164033Z
UID:10001792-1783328400-1783350000@clwalkerton.org
SUMMARY:Wave Warriors
DESCRIPTION:Wave Warriors – Spending time at a beach of their choice while enjoying their picnic lunch. Bring Money in case a drink is wanted and a picnic lunch
URL:https://clwalkerton.org/event/wave-warriors/2026-07-06/
CATEGORIES:Community Participation
ATTACH;FMTTYPE=image/jpeg:https://clwalkerton.org/wp-content/uploads/2025/04/beach.jpg
END:VEVENT
BEGIN:VEVENT
DTSTART;TZID=America/Toronto:20260706T100000
DTEND;TZID=America/Toronto:20260706T120000
DTSTAMP:20260422T133505
CREATED:20260422T163838Z
LAST-MODIFIED:20260422T163838Z
UID:10001779-1783332000-1783339200@clwalkerton.org
SUMMARY:Gardening/Patio
DESCRIPTION:Gardening/Patio – Taking care of the garden and enjoying time on Patio
URL:https://clwalkerton.org/event/gardening-patio/2026-07-06/
CATEGORIES:Community Participation
END:VEVENT
BEGIN:VEVENT
DTSTART;TZID=America/Toronto:20260706T130000
DTEND;TZID=America/Toronto:20260706T150000
DTSTAMP:20260422T133505
CREATED:20260422T165622Z
LAST-MODIFIED:20260422T165622Z
UID:10001805-1783342800-1783350000@clwalkerton.org
SUMMARY:Ladies Club
DESCRIPTION:Ladies Club– COST: $60.00 (3 months) A great way to get ladies together to socialize with some friends
URL:https://clwalkerton.org/event/ladies-club-6/2026-07-06/
CATEGORIES:Community Participation
ATTACH;FMTTYPE=image/jpeg:https://clwalkerton.org/wp-content/uploads/2025/03/ladies-club.jpg
END:VEVENT
BEGIN:VEVENT
DTSTART;TZID=America/Toronto:20260706T130000
DTEND;TZID=America/Toronto:20260706T150000
DTSTAMP:20260422T133505
CREATED:20260422T165809Z
LAST-MODIFIED:20260422T165809Z
UID:10001818-1783342800-1783350000@clwalkerton.org
SUMMARY:Men's Club
DESCRIPTION:Guy’s Club – A great time being social with some friends. $20.00 for 3 months
URL:https://clwalkerton.org/event/mens-club-6/2026-07-06/
CATEGORIES:Community Participation
ATTACH;FMTTYPE=image/jpeg:https://clwalkerton.org/wp-content/uploads/2025/03/mens-club.jpg
END:VEVENT
BEGIN:VEVENT
DTSTART;TZID=America/Toronto:20260707T090000
DTEND;TZID=America/Toronto:20260707T150000
DTSTAMP:20260422T133505
CREATED:20260422T170238Z
LAST-MODIFIED:20260422T170238Z
UID:10001844-1783414800-1783436400@clwalkerton.org
SUMMARY:Summer Markets & Geo Caching
DESCRIPTION:Markets/parks/Geo Caching – will be rotated over the 3 months. Please bring money and Picinic lunch if it is a 9-3pm day.
URL:https://clwalkerton.org/event/summer-markets-geo-caching/2026-07-07/
END:VEVENT
BEGIN:VEVENT
DTSTART;TZID=America/Toronto:20260707T100000
DTEND;TZID=America/Toronto:20260707T120000
DTSTAMP:20260422T133505
CREATED:20260422T170014Z
LAST-MODIFIED:20260422T170014Z
UID:10001831-1783418400-1783425600@clwalkerton.org
SUMMARY:Karaoke
DESCRIPTION:Karaoke – Show your talent by singing your favourite song
URL:https://clwalkerton.org/event/karaoke-5/2026-07-07/
CATEGORIES:Community Participation
END:VEVENT
END:VCALENDAR