BEGIN:VCALENDAR
VERSION:2.0
PRODID:-//Community Living Walkerton and District - ECPv6.15.18//NONSGML v1.0//EN
CALSCALE:GREGORIAN
METHOD:PUBLISH
X-WR-CALNAME:Community Living Walkerton and District
X-ORIGINAL-URL:https://clwalkerton.org
X-WR-CALDESC:Events for Community Living Walkerton and District
REFRESH-INTERVAL;VALUE=DURATION:PT1H
X-Robots-Tag:noindex
X-PUBLISHED-TTL:PT1H
BEGIN:VTIMEZONE
TZID:America/Toronto
BEGIN:DAYLIGHT
TZOFFSETFROM:-0500
TZOFFSETTO:-0400
TZNAME:EDT
DTSTART:20250309T070000
END:DAYLIGHT
BEGIN:STANDARD
TZOFFSETFROM:-0400
TZOFFSETTO:-0500
TZNAME:EST
DTSTART:20251102T060000
END:STANDARD
BEGIN:DAYLIGHT
TZOFFSETFROM:-0500
TZOFFSETTO:-0400
TZNAME:EDT
DTSTART:20260308T070000
END:DAYLIGHT
BEGIN:STANDARD
TZOFFSETFROM:-0400
TZOFFSETTO:-0500
TZNAME:EST
DTSTART:20261101T060000
END:STANDARD
BEGIN:DAYLIGHT
TZOFFSETFROM:-0500
TZOFFSETTO:-0400
TZNAME:EDT
DTSTART:20270314T070000
END:DAYLIGHT
BEGIN:STANDARD
TZOFFSETFROM:-0400
TZOFFSETTO:-0500
TZNAME:EST
DTSTART:20271107T060000
END:STANDARD
END:VTIMEZONE
BEGIN:VEVENT
DTSTART;TZID=America/Toronto:20260810T090000
DTEND;TZID=America/Toronto:20260810T150000
DTSTAMP:20260422T181300
CREATED:20260422T164033Z
LAST-MODIFIED:20260422T164033Z
UID:10001796-1786352400-1786374000@clwalkerton.org
SUMMARY:Wave Warriors
DESCRIPTION:Wave Warriors – Spending time at a beach of their choice while enjoying their picnic lunch. Bring Money in case a drink is wanted and a picnic lunch
URL:https://clwalkerton.org/event/wave-warriors/2026-08-10/
CATEGORIES:Community Participation
ATTACH;FMTTYPE=image/jpeg:https://clwalkerton.org/wp-content/uploads/2025/04/beach.jpg
END:VEVENT
BEGIN:VEVENT
DTSTART;TZID=America/Toronto:20260810T100000
DTEND;TZID=America/Toronto:20260810T120000
DTSTAMP:20260422T181300
CREATED:20260422T163838Z
LAST-MODIFIED:20260422T163838Z
UID:10001783-1786356000-1786363200@clwalkerton.org
SUMMARY:Gardening/Patio
DESCRIPTION:Gardening/Patio – Taking care of the garden and enjoying time on Patio
URL:https://clwalkerton.org/event/gardening-patio/2026-08-10/
CATEGORIES:Community Participation
END:VEVENT
BEGIN:VEVENT
DTSTART;TZID=America/Toronto:20260810T130000
DTEND;TZID=America/Toronto:20260810T150000
DTSTAMP:20260422T181300
CREATED:20260422T165622Z
LAST-MODIFIED:20260422T165622Z
UID:10001809-1786366800-1786374000@clwalkerton.org
SUMMARY:Ladies Club
DESCRIPTION:Ladies Club– COST: $60.00 (3 months) A great way to get ladies together to socialize with some friends
URL:https://clwalkerton.org/event/ladies-club-6/2026-08-10/
CATEGORIES:Community Participation
ATTACH;FMTTYPE=image/jpeg:https://clwalkerton.org/wp-content/uploads/2025/03/ladies-club.jpg
END:VEVENT
BEGIN:VEVENT
DTSTART;TZID=America/Toronto:20260810T130000
DTEND;TZID=America/Toronto:20260810T150000
DTSTAMP:20260422T181300
CREATED:20260422T165809Z
LAST-MODIFIED:20260422T165809Z
UID:10001822-1786366800-1786374000@clwalkerton.org
SUMMARY:Men's Club
DESCRIPTION:Guy’s Club – A great time being social with some friends. $20.00 for 3 months
URL:https://clwalkerton.org/event/mens-club-6/2026-08-10/
CATEGORIES:Community Participation
ATTACH;FMTTYPE=image/jpeg:https://clwalkerton.org/wp-content/uploads/2025/03/mens-club.jpg
END:VEVENT
BEGIN:VEVENT
DTSTART;TZID=America/Toronto:20260811T090000
DTEND;TZID=America/Toronto:20260811T150000
DTSTAMP:20260422T181300
CREATED:20260422T170238Z
LAST-MODIFIED:20260422T170238Z
UID:10001849-1786438800-1786460400@clwalkerton.org
SUMMARY:Summer Markets & Geo Caching
DESCRIPTION:Markets/parks/Geo Caching – will be rotated over the 3 months. Please bring money and Picinic lunch if it is a 9-3pm day.
URL:https://clwalkerton.org/event/summer-markets-geo-caching/2026-08-11/
END:VEVENT
BEGIN:VEVENT
DTSTART;TZID=America/Toronto:20260811T100000
DTEND;TZID=America/Toronto:20260811T120000
DTSTAMP:20260422T181300
CREATED:20260422T170014Z
LAST-MODIFIED:20260422T170014Z
UID:10001836-1786442400-1786449600@clwalkerton.org
SUMMARY:Karaoke
DESCRIPTION:Karaoke – Show your talent by singing your favourite song
URL:https://clwalkerton.org/event/karaoke-5/2026-08-11/
CATEGORIES:Community Participation
END:VEVENT
BEGIN:VEVENT
DTSTART;TZID=America/Toronto:20260811T130000
DTEND;TZID=America/Toronto:20260811T150000
DTSTAMP:20260422T181300
CREATED:20260422T170738Z
LAST-MODIFIED:20260422T170738Z
UID:10001859-1786453200-1786460400@clwalkerton.org
SUMMARY:Smoothie/Strolls /Ice cream
DESCRIPTION:Smoothie/Strolls /Ice cream – learning to make a smoothie Cost $25 for the quarter or enjoy a stroll and treat (Ice cream) for each the outing bring $10
URL:https://clwalkerton.org/event/smoothie-strolls-ice-cream/2026-08-11/
CATEGORIES:Community Participation
ATTACH;FMTTYPE=image/jpeg:https://clwalkerton.org/wp-content/uploads/2025/04/smoothies.jpg
END:VEVENT
BEGIN:VEVENT
DTSTART;TZID=America/Toronto:20260812T100000
DTEND;TZID=America/Toronto:20260812T120000
DTSTAMP:20260422T181300
CREATED:20250725T180320Z
LAST-MODIFIED:20250725T180320Z
UID:10000977-1786528800-1786536000@clwalkerton.org
SUMMARY:Library
DESCRIPTION:
URL:https://clwalkerton.org/event/library/2026-08-12/
CATEGORIES:Community Participation
ATTACH;FMTTYPE=image/jpeg:https://clwalkerton.org/wp-content/uploads/2025/01/library.jpg
END:VEVENT
BEGIN:VEVENT
DTSTART;TZID=America/Toronto:20260812T100000
DTEND;TZID=America/Toronto:20260812T120000
DTSTAMP:20260422T181300
CREATED:20260422T173938Z
LAST-MODIFIED:20260422T173938Z
UID:10001874-1786528800-1786536000@clwalkerton.org
SUMMARY: Craft Circle
DESCRIPTION: Craft Circle – Working on 1 craft each month. June\, July and August craft cost is $70.00 We will bill at the beginning of the quarter. Craft on marked on calendar
URL:https://clwalkerton.org/event/craft-circle-4/2026-08-12/
CATEGORIES:Community Participation
ATTACH;FMTTYPE=image/jpeg:https://clwalkerton.org/wp-content/uploads/2025/10/craft-circle.jpg
END:VEVENT
BEGIN:VEVENT
DTSTART;TZID=America/Toronto:20260812T110000
DTEND;TZID=America/Toronto:20260812T150000
DTSTAMP:20260422T181300
CREATED:20250725T181055Z
LAST-MODIFIED:20250725T181055Z
UID:10001041-1786532400-1786546800@clwalkerton.org
SUMMARY:Bowling in Port Elgin
DESCRIPTION:
URL:https://clwalkerton.org/event/bowling-in-port-elgin-3/2026-08-12/
CATEGORIES:Community Participation
ATTACH;FMTTYPE=image/jpeg:https://clwalkerton.org/wp-content/uploads/2025/01/bowling.jpg
END:VEVENT
BEGIN:VEVENT
DTSTART;TZID=America/Toronto:20260812T110000
DTEND;TZID=America/Toronto:20260812T150000
DTSTAMP:20260422T181300
CREATED:20260422T174143Z
LAST-MODIFIED:20260422T174143Z
UID:10001886-1786532400-1786546800@clwalkerton.org
SUMMARY:Bowling
DESCRIPTION:Bowling – Bowling will be offered in Port Elgin (bring $10.00) and a bag lunch that day for the 11-week calendar. We will drive you home
URL:https://clwalkerton.org/event/bowling-2/2026-08-12/
CATEGORIES:Community Participation
ATTACH;FMTTYPE=image/jpeg:https://clwalkerton.org/wp-content/uploads/2025/01/bowling.jpg
END:VEVENT
BEGIN:VEVENT
DTSTART;TZID=America/Toronto:20260812T130000
DTEND;TZID=America/Toronto:20260812T150000
DTSTAMP:20260422T181300
CREATED:20250725T182809Z
LAST-MODIFIED:20250725T182809Z
UID:10001105-1786539600-1786546800@clwalkerton.org
SUMMARY:Games at the HUB
DESCRIPTION:
URL:https://clwalkerton.org/event/games-at-the-hub/2026-08-12/
CATEGORIES:Community Participation
ATTACH;FMTTYPE=image/jpeg:https://clwalkerton.org/wp-content/uploads/2025/01/games.jpg
END:VEVENT
BEGIN:VEVENT
DTSTART;TZID=America/Toronto:20260812T130000
DTEND;TZID=America/Toronto:20260812T150000
DTSTAMP:20260422T181300
CREATED:20260422T174744Z
LAST-MODIFIED:20260422T174744Z
UID:10001898-1786539600-1786546800@clwalkerton.org
SUMMARY:For the Love of Books
DESCRIPTION:For the Love of Books– Together the group will visit the local library to pick out books of interest to read together throughout the weeks.
URL:https://clwalkerton.org/event/for-the-love-of-books-2/2026-08-12/
CATEGORIES:Community Participation
ATTACH;FMTTYPE=image/jpeg:https://clwalkerton.org/wp-content/uploads/2025/01/library.jpg
END:VEVENT
BEGIN:VEVENT
DTSTART;TZID=America/Toronto:20260813T090000
DTEND;TZID=America/Toronto:20260813T150000
DTSTAMP:20260422T181300
CREATED:20260422T180029Z
LAST-MODIFIED:20260422T180029Z
UID:10001923-1786611600-1786633200@clwalkerton.org
SUMMARY:Adventures
DESCRIPTION:Adventures – Is a variety of outings that cover plays\, visits to see animals\, fishing and many more idea. Each outing requires money – bring 20.00 each time
URL:https://clwalkerton.org/event/adventures/2026-08-13/
CATEGORIES:Community Participation
ATTACH;FMTTYPE=image/jpeg:https://clwalkerton.org/wp-content/uploads/2025/04/adventure.jpg
END:VEVENT
BEGIN:VEVENT
DTSTART;TZID=America/Toronto:20260813T100000
DTEND;TZID=America/Toronto:20260813T120000
DTSTAMP:20260422T181300
CREATED:20260422T175638Z
LAST-MODIFIED:20260422T175818Z
UID:10001911-1786615200-1786622400@clwalkerton.org
SUMMARY:Mug and Music
DESCRIPTION:Mugs and Music – Making a mug dessert – 3-month cost $25.00
URL:https://clwalkerton.org/event/mug-and-music/2026-08-13/
CATEGORIES:Community Participation
ATTACH;FMTTYPE=image/jpeg:https://clwalkerton.org/wp-content/uploads/2026/04/mug-and-music.jpg
END:VEVENT
BEGIN:VEVENT
DTSTART;TZID=America/Toronto:20260813T130000
DTEND;TZID=America/Toronto:20260813T150000
DTSTAMP:20260422T181300
CREATED:20251030T160549Z
LAST-MODIFIED:20251030T160549Z
UID:10001459-1786626000-1786633200@clwalkerton.org
SUMMARY:Artistic Expression
DESCRIPTION:Bring your own project and let’s get creative together.
URL:https://clwalkerton.org/event/artistic-expression/2026-08-13/
CATEGORIES:Community Participation
ATTACH;FMTTYPE=image/jpeg:https://clwalkerton.org/wp-content/uploads/2025/10/art-project.jpg
END:VEVENT
BEGIN:VEVENT
DTSTART;TZID=America/Toronto:20260813T130000
DTEND;TZID=America/Toronto:20260813T150000
DTSTAMP:20260422T181300
CREATED:20260422T180228Z
LAST-MODIFIED:20260422T180228Z
UID:10001935-1786626000-1786633200@clwalkerton.org
SUMMARY:Yard Games
DESCRIPTION:Yard Games – Enjoys games in the back yard. Challenging you best game with yourself or others.
URL:https://clwalkerton.org/event/yard-games-2/2026-08-13/
CATEGORIES:Community Participation
ATTACH;FMTTYPE=image/jpeg:https://clwalkerton.org/wp-content/uploads/2026/04/yard-games.jpg
END:VEVENT
BEGIN:VEVENT
DTSTART;TZID=America/Toronto:20260814T103000
DTEND;TZID=America/Toronto:20260814T120000
DTSTAMP:20260422T181300
CREATED:20260422T180945Z
LAST-MODIFIED:20260422T180945Z
UID:10001949-1786703400-1786708800@clwalkerton.org
SUMMARY:Bingo!
DESCRIPTION:Bingo – Join the fun every Friday at the Hub as we will enjoy a spirited morning of Bingo. Take a turn calling and/or trying to win a game. Cost $13
URL:https://clwalkerton.org/event/bingo-7/2026-08-14/
CATEGORIES:Community Participation
ATTACH;FMTTYPE=image/jpeg:https://clwalkerton.org/wp-content/uploads/2025/01/bingo.jpg
END:VEVENT
BEGIN:VEVENT
DTSTART;TZID=America/Toronto:20260814T120000
DTEND;TZID=America/Toronto:20260814T130000
DTSTAMP:20260422T181300
CREATED:20260422T182119Z
LAST-MODIFIED:20260422T182119Z
UID:10001967-1786708800-1786712400@clwalkerton.org
SUMMARY:BBQ Time!
DESCRIPTION:June/July/August – BBQ’s will happen on the Friday posters with info closer to the time.
URL:https://clwalkerton.org/event/bbq-time/2026-08-14/
CATEGORIES:Community Participation
ATTACH;FMTTYPE=image/jpeg:https://clwalkerton.org/wp-content/uploads/2025/04/bbq.jpg
END:VEVENT
BEGIN:VEVENT
DTSTART;TZID=America/Toronto:20260814T130000
DTEND;TZID=America/Toronto:20260814T150000
DTSTAMP:20260422T181300
CREATED:20260422T181733Z
LAST-MODIFIED:20260422T181733Z
UID:10001962-1786712400-1786719600@clwalkerton.org
SUMMARY:Fun Fridays
DESCRIPTION:Friday Funday – Decorating the Homecoming float \nFriday Funday  \n\nOutdoor games & mocktails\nSteam show\nSilver Lake outdoor activities
URL:https://clwalkerton.org/event/fun-fridays/2026-08-14/
CATEGORIES:Community Participation
ATTACH;FMTTYPE=image/jpeg:https://clwalkerton.org/wp-content/uploads/2025/03/fun-friday.jpg
END:VEVENT
BEGIN:VEVENT
DTSTART;TZID=America/Toronto:20260817T090000
DTEND;TZID=America/Toronto:20260817T150000
DTSTAMP:20260422T181300
CREATED:20260422T164033Z
LAST-MODIFIED:20260422T164033Z
UID:10001797-1786957200-1786978800@clwalkerton.org
SUMMARY:Wave Warriors
DESCRIPTION:Wave Warriors – Spending time at a beach of their choice while enjoying their picnic lunch. Bring Money in case a drink is wanted and a picnic lunch
URL:https://clwalkerton.org/event/wave-warriors/2026-08-17/
CATEGORIES:Community Participation
ATTACH;FMTTYPE=image/jpeg:https://clwalkerton.org/wp-content/uploads/2025/04/beach.jpg
END:VEVENT
BEGIN:VEVENT
DTSTART;TZID=America/Toronto:20260817T100000
DTEND;TZID=America/Toronto:20260817T120000
DTSTAMP:20260422T181300
CREATED:20260422T163838Z
LAST-MODIFIED:20260422T163838Z
UID:10001784-1786960800-1786968000@clwalkerton.org
SUMMARY:Gardening/Patio
DESCRIPTION:Gardening/Patio – Taking care of the garden and enjoying time on Patio
URL:https://clwalkerton.org/event/gardening-patio/2026-08-17/
CATEGORIES:Community Participation
END:VEVENT
BEGIN:VEVENT
DTSTART;TZID=America/Toronto:20260817T130000
DTEND;TZID=America/Toronto:20260817T150000
DTSTAMP:20260422T181300
CREATED:20260422T165622Z
LAST-MODIFIED:20260422T165622Z
UID:10001810-1786971600-1786978800@clwalkerton.org
SUMMARY:Ladies Club
DESCRIPTION:Ladies Club– COST: $60.00 (3 months) A great way to get ladies together to socialize with some friends
URL:https://clwalkerton.org/event/ladies-club-6/2026-08-17/
CATEGORIES:Community Participation
ATTACH;FMTTYPE=image/jpeg:https://clwalkerton.org/wp-content/uploads/2025/03/ladies-club.jpg
END:VEVENT
BEGIN:VEVENT
DTSTART;TZID=America/Toronto:20260817T130000
DTEND;TZID=America/Toronto:20260817T150000
DTSTAMP:20260422T181300
CREATED:20260422T165809Z
LAST-MODIFIED:20260422T165809Z
UID:10001823-1786971600-1786978800@clwalkerton.org
SUMMARY:Men's Club
DESCRIPTION:Guy’s Club – A great time being social with some friends. $20.00 for 3 months
URL:https://clwalkerton.org/event/mens-club-6/2026-08-17/
CATEGORIES:Community Participation
ATTACH;FMTTYPE=image/jpeg:https://clwalkerton.org/wp-content/uploads/2025/03/mens-club.jpg
END:VEVENT
BEGIN:VEVENT
DTSTART;TZID=America/Toronto:20260818T090000
DTEND;TZID=America/Toronto:20260818T150000
DTSTAMP:20260422T181300
CREATED:20260422T170238Z
LAST-MODIFIED:20260422T170238Z
UID:10001850-1787043600-1787065200@clwalkerton.org
SUMMARY:Summer Markets & Geo Caching
DESCRIPTION:Markets/parks/Geo Caching – will be rotated over the 3 months. Please bring money and Picinic lunch if it is a 9-3pm day.
URL:https://clwalkerton.org/event/summer-markets-geo-caching/2026-08-18/
END:VEVENT
BEGIN:VEVENT
DTSTART;TZID=America/Toronto:20260818T100000
DTEND;TZID=America/Toronto:20260818T120000
DTSTAMP:20260422T181300
CREATED:20260422T170014Z
LAST-MODIFIED:20260422T170014Z
UID:10001837-1787047200-1787054400@clwalkerton.org
SUMMARY:Karaoke
DESCRIPTION:Karaoke – Show your talent by singing your favourite song
URL:https://clwalkerton.org/event/karaoke-5/2026-08-18/
CATEGORIES:Community Participation
END:VEVENT
BEGIN:VEVENT
DTSTART;TZID=America/Toronto:20260818T133000
DTEND;TZID=America/Toronto:20260818T150000
DTSTAMP:20260422T181300
CREATED:20260422T171057Z
LAST-MODIFIED:20260422T171057Z
UID:10001863-1787059800-1787065200@clwalkerton.org
SUMMARY:Visits With Remi the Dog
DESCRIPTION:Dog Therapy -visits with Remi on June 16\, July 28 and Aug 18 (130-3pm). A chance to interact with a trained dog that provides affection\, comfort and support to all individuals.
URL:https://clwalkerton.org/event/visits-with-remi-the-dog/2026-08-18/
CATEGORIES:Community Participation
ATTACH;FMTTYPE=image/jpeg:https://clwalkerton.org/wp-content/uploads/2025/01/visit-w-remi.jpg
END:VEVENT
BEGIN:VEVENT
DTSTART;TZID=America/Toronto:20260819T100000
DTEND;TZID=America/Toronto:20260819T120000
DTSTAMP:20260422T181300
CREATED:20250725T180320Z
LAST-MODIFIED:20250725T180320Z
UID:10000978-1787133600-1787140800@clwalkerton.org
SUMMARY:Library
DESCRIPTION:
URL:https://clwalkerton.org/event/library/2026-08-19/
CATEGORIES:Community Participation
ATTACH;FMTTYPE=image/jpeg:https://clwalkerton.org/wp-content/uploads/2025/01/library.jpg
END:VEVENT
BEGIN:VEVENT
DTSTART;TZID=America/Toronto:20260819T100000
DTEND;TZID=America/Toronto:20260819T120000
DTSTAMP:20260422T181300
CREATED:20260422T173938Z
LAST-MODIFIED:20260422T173938Z
UID:10001875-1787133600-1787140800@clwalkerton.org
SUMMARY: Craft Circle
DESCRIPTION: Craft Circle – Working on 1 craft each month. June\, July and August craft cost is $70.00 We will bill at the beginning of the quarter. Craft on marked on calendar
URL:https://clwalkerton.org/event/craft-circle-4/2026-08-19/
CATEGORIES:Community Participation
ATTACH;FMTTYPE=image/jpeg:https://clwalkerton.org/wp-content/uploads/2025/10/craft-circle.jpg
END:VEVENT
BEGIN:VEVENT
DTSTART;TZID=America/Toronto:20260819T110000
DTEND;TZID=America/Toronto:20260819T150000
DTSTAMP:20260422T181300
CREATED:20250725T181055Z
LAST-MODIFIED:20250725T181055Z
UID:10001042-1787137200-1787151600@clwalkerton.org
SUMMARY:Bowling in Port Elgin
DESCRIPTION:
URL:https://clwalkerton.org/event/bowling-in-port-elgin-3/2026-08-19/
CATEGORIES:Community Participation
ATTACH;FMTTYPE=image/jpeg:https://clwalkerton.org/wp-content/uploads/2025/01/bowling.jpg
END:VEVENT
END:VCALENDAR