BEGIN:VCALENDAR
VERSION:2.0
PRODID:-//Community Living Walkerton and District - ECPv6.15.18//NONSGML v1.0//EN
CALSCALE:GREGORIAN
METHOD:PUBLISH
X-ORIGINAL-URL:https://clwalkerton.org
X-WR-CALDESC:Events for Community Living Walkerton and District
REFRESH-INTERVAL;VALUE=DURATION:PT1H
X-Robots-Tag:noindex
X-PUBLISHED-TTL:PT1H
BEGIN:VTIMEZONE
TZID:America/Toronto
BEGIN:DAYLIGHT
TZOFFSETFROM:-0500
TZOFFSETTO:-0400
TZNAME:EDT
DTSTART:20250309T070000
END:DAYLIGHT
BEGIN:STANDARD
TZOFFSETFROM:-0400
TZOFFSETTO:-0500
TZNAME:EST
DTSTART:20251102T060000
END:STANDARD
BEGIN:DAYLIGHT
TZOFFSETFROM:-0500
TZOFFSETTO:-0400
TZNAME:EDT
DTSTART:20260308T070000
END:DAYLIGHT
BEGIN:STANDARD
TZOFFSETFROM:-0400
TZOFFSETTO:-0500
TZNAME:EST
DTSTART:20261101T060000
END:STANDARD
BEGIN:DAYLIGHT
TZOFFSETFROM:-0500
TZOFFSETTO:-0400
TZNAME:EDT
DTSTART:20270314T070000
END:DAYLIGHT
BEGIN:STANDARD
TZOFFSETFROM:-0400
TZOFFSETTO:-0500
TZNAME:EST
DTSTART:20271107T060000
END:STANDARD
END:VTIMEZONE
BEGIN:VEVENT
DTSTART;TZID=America/Toronto:20260609T090000
DTEND;TZID=America/Toronto:20260609T150000
DTSTAMP:20260422T181606
CREATED:20260422T170238Z
LAST-MODIFIED:20260422T170238Z
UID:10001840-1780995600-1781017200@clwalkerton.org
SUMMARY:Summer Markets & Geo Caching
DESCRIPTION:Markets/parks/Geo Caching – will be rotated over the 3 months. Please bring money and Picinic lunch if it is a 9-3pm day.
URL:https://clwalkerton.org/event/summer-markets-geo-caching/2026-06-09/
END:VEVENT
BEGIN:VEVENT
DTSTART;TZID=America/Toronto:20260609T100000
DTEND;TZID=America/Toronto:20260609T120000
DTSTAMP:20260422T181606
CREATED:20260422T170014Z
LAST-MODIFIED:20260422T170014Z
UID:10001827-1780999200-1781006400@clwalkerton.org
SUMMARY:Karaoke
DESCRIPTION:Karaoke – Show your talent by singing your favourite song
URL:https://clwalkerton.org/event/karaoke-5/2026-06-09/
CATEGORIES:Community Participation
END:VEVENT
BEGIN:VEVENT
DTSTART;TZID=America/Toronto:20260609T130000
DTEND;TZID=America/Toronto:20260609T150000
DTSTAMP:20260422T181606
CREATED:20260422T170738Z
LAST-MODIFIED:20260422T170738Z
UID:10001853-1781010000-1781017200@clwalkerton.org
SUMMARY:Smoothie/Strolls /Ice cream
DESCRIPTION:Smoothie/Strolls /Ice cream – learning to make a smoothie Cost $25 for the quarter or enjoy a stroll and treat (Ice cream) for each the outing bring $10
URL:https://clwalkerton.org/event/smoothie-strolls-ice-cream/2026-06-09/
CATEGORIES:Community Participation
ATTACH;FMTTYPE=image/jpeg:https://clwalkerton.org/wp-content/uploads/2025/04/smoothies.jpg
END:VEVENT
BEGIN:VEVENT
DTSTART;TZID=America/Toronto:20260610T100000
DTEND;TZID=America/Toronto:20260610T120000
DTSTAMP:20260422T181606
CREATED:20250725T180320Z
LAST-MODIFIED:20250725T180320Z
UID:10000968-1781085600-1781092800@clwalkerton.org
SUMMARY:Library
DESCRIPTION:
URL:https://clwalkerton.org/event/library/2026-06-10/
CATEGORIES:Community Participation
ATTACH;FMTTYPE=image/jpeg:https://clwalkerton.org/wp-content/uploads/2025/01/library.jpg
END:VEVENT
BEGIN:VEVENT
DTSTART;TZID=America/Toronto:20260610T100000
DTEND;TZID=America/Toronto:20260610T120000
DTSTAMP:20260422T181606
CREATED:20260422T173938Z
LAST-MODIFIED:20260422T173938Z
UID:10001866-1781085600-1781092800@clwalkerton.org
SUMMARY: Craft Circle
DESCRIPTION: Craft Circle – Working on 1 craft each month. June\, July and August craft cost is $70.00 We will bill at the beginning of the quarter. Craft on marked on calendar
URL:https://clwalkerton.org/event/craft-circle-4/2026-06-10/
CATEGORIES:Community Participation
ATTACH;FMTTYPE=image/jpeg:https://clwalkerton.org/wp-content/uploads/2025/10/craft-circle.jpg
END:VEVENT
BEGIN:VEVENT
DTSTART;TZID=America/Toronto:20260610T110000
DTEND;TZID=America/Toronto:20260610T150000
DTSTAMP:20260422T181606
CREATED:20250725T181055Z
LAST-MODIFIED:20250725T181055Z
UID:10001032-1781089200-1781103600@clwalkerton.org
SUMMARY:Bowling in Port Elgin
DESCRIPTION:
URL:https://clwalkerton.org/event/bowling-in-port-elgin-3/2026-06-10/
CATEGORIES:Community Participation
ATTACH;FMTTYPE=image/jpeg:https://clwalkerton.org/wp-content/uploads/2025/01/bowling.jpg
END:VEVENT
BEGIN:VEVENT
DTSTART;TZID=America/Toronto:20260610T110000
DTEND;TZID=America/Toronto:20260610T150000
DTSTAMP:20260422T181606
CREATED:20260422T174143Z
LAST-MODIFIED:20260422T174143Z
UID:10001878-1781089200-1781103600@clwalkerton.org
SUMMARY:Bowling
DESCRIPTION:Bowling – Bowling will be offered in Port Elgin (bring $10.00) and a bag lunch that day for the 11-week calendar. We will drive you home
URL:https://clwalkerton.org/event/bowling-2/2026-06-10/
CATEGORIES:Community Participation
ATTACH;FMTTYPE=image/jpeg:https://clwalkerton.org/wp-content/uploads/2025/01/bowling.jpg
END:VEVENT
BEGIN:VEVENT
DTSTART;TZID=America/Toronto:20260610T130000
DTEND;TZID=America/Toronto:20260610T150000
DTSTAMP:20260422T181606
CREATED:20250725T182809Z
LAST-MODIFIED:20250725T182809Z
UID:10001096-1781096400-1781103600@clwalkerton.org
SUMMARY:Games at the HUB
DESCRIPTION:
URL:https://clwalkerton.org/event/games-at-the-hub/2026-06-10/
CATEGORIES:Community Participation
ATTACH;FMTTYPE=image/jpeg:https://clwalkerton.org/wp-content/uploads/2025/01/games.jpg
END:VEVENT
BEGIN:VEVENT
DTSTART;TZID=America/Toronto:20260610T130000
DTEND;TZID=America/Toronto:20260610T150000
DTSTAMP:20260422T181606
CREATED:20260422T174744Z
LAST-MODIFIED:20260422T174744Z
UID:10001890-1781096400-1781103600@clwalkerton.org
SUMMARY:For the Love of Books
DESCRIPTION:For the Love of Books– Together the group will visit the local library to pick out books of interest to read together throughout the weeks.
URL:https://clwalkerton.org/event/for-the-love-of-books-2/2026-06-10/
CATEGORIES:Community Participation
ATTACH;FMTTYPE=image/jpeg:https://clwalkerton.org/wp-content/uploads/2025/01/library.jpg
END:VEVENT
BEGIN:VEVENT
DTSTART;TZID=America/Toronto:20260611T090000
DTEND;TZID=America/Toronto:20260611T150000
DTSTAMP:20260422T181606
CREATED:20260422T180029Z
LAST-MODIFIED:20260422T180029Z
UID:10001915-1781168400-1781190000@clwalkerton.org
SUMMARY:Adventures
DESCRIPTION:Adventures – Is a variety of outings that cover plays\, visits to see animals\, fishing and many more idea. Each outing requires money – bring 20.00 each time
URL:https://clwalkerton.org/event/adventures/2026-06-11/
CATEGORIES:Community Participation
ATTACH;FMTTYPE=image/jpeg:https://clwalkerton.org/wp-content/uploads/2025/04/adventure.jpg
END:VEVENT
BEGIN:VEVENT
DTSTART;TZID=America/Toronto:20260611T100000
DTEND;TZID=America/Toronto:20260611T120000
DTSTAMP:20260422T181606
CREATED:20260422T175638Z
LAST-MODIFIED:20260422T175818Z
UID:10001903-1781172000-1781179200@clwalkerton.org
SUMMARY:Mug and Music
DESCRIPTION:Mugs and Music – Making a mug dessert – 3-month cost $25.00
URL:https://clwalkerton.org/event/mug-and-music/2026-06-11/
CATEGORIES:Community Participation
ATTACH;FMTTYPE=image/jpeg:https://clwalkerton.org/wp-content/uploads/2026/04/mug-and-music.jpg
END:VEVENT
BEGIN:VEVENT
DTSTART;TZID=America/Toronto:20260611T130000
DTEND;TZID=America/Toronto:20260611T150000
DTSTAMP:20260422T181606
CREATED:20251030T160549Z
LAST-MODIFIED:20251030T160549Z
UID:10001450-1781182800-1781190000@clwalkerton.org
SUMMARY:Artistic Expression
DESCRIPTION:Bring your own project and let’s get creative together.
URL:https://clwalkerton.org/event/artistic-expression/2026-06-11/
CATEGORIES:Community Participation
ATTACH;FMTTYPE=image/jpeg:https://clwalkerton.org/wp-content/uploads/2025/10/art-project.jpg
END:VEVENT
BEGIN:VEVENT
DTSTART;TZID=America/Toronto:20260611T130000
DTEND;TZID=America/Toronto:20260611T150000
DTSTAMP:20260422T181606
CREATED:20260422T180228Z
LAST-MODIFIED:20260422T180228Z
UID:10001927-1781182800-1781190000@clwalkerton.org
SUMMARY:Yard Games
DESCRIPTION:Yard Games – Enjoys games in the back yard. Challenging you best game with yourself or others.
URL:https://clwalkerton.org/event/yard-games-2/2026-06-11/
CATEGORIES:Community Participation
ATTACH;FMTTYPE=image/jpeg:https://clwalkerton.org/wp-content/uploads/2026/04/yard-games.jpg
END:VEVENT
BEGIN:VEVENT
DTSTART;TZID=America/Toronto:20260612T103000
DTEND;TZID=America/Toronto:20260612T120000
DTSTAMP:20260422T181606
CREATED:20260422T180945Z
LAST-MODIFIED:20260422T180945Z
UID:10001940-1781260200-1781265600@clwalkerton.org
SUMMARY:Bingo!
DESCRIPTION:Bingo – Join the fun every Friday at the Hub as we will enjoy a spirited morning of Bingo. Take a turn calling and/or trying to win a game. Cost $13
URL:https://clwalkerton.org/event/bingo-7/2026-06-12/
CATEGORIES:Community Participation
ATTACH;FMTTYPE=image/jpeg:https://clwalkerton.org/wp-content/uploads/2025/01/bingo.jpg
END:VEVENT
BEGIN:VEVENT
DTSTART;TZID=America/Toronto:20260612T130000
DTEND;TZID=America/Toronto:20260612T150000
DTSTAMP:20260422T181606
CREATED:20260422T181733Z
LAST-MODIFIED:20260422T181733Z
UID:10001953-1781269200-1781276400@clwalkerton.org
SUMMARY:Fun Fridays
DESCRIPTION:Friday Funday – Decorating the Homecoming float \nFriday Funday  \n\nOutdoor games & mocktails\nSteam show\nSilver Lake outdoor activities
URL:https://clwalkerton.org/event/fun-fridays/2026-06-12/
CATEGORIES:Community Participation
ATTACH;FMTTYPE=image/jpeg:https://clwalkerton.org/wp-content/uploads/2025/03/fun-friday.jpg
END:VEVENT
BEGIN:VEVENT
DTSTART;TZID=America/Toronto:20260615T090000
DTEND;TZID=America/Toronto:20260615T150000
DTSTAMP:20260422T181606
CREATED:20260422T164033Z
LAST-MODIFIED:20260422T164033Z
UID:10001789-1781514000-1781535600@clwalkerton.org
SUMMARY:Wave Warriors
DESCRIPTION:Wave Warriors – Spending time at a beach of their choice while enjoying their picnic lunch. Bring Money in case a drink is wanted and a picnic lunch
URL:https://clwalkerton.org/event/wave-warriors/2026-06-15/
CATEGORIES:Community Participation
ATTACH;FMTTYPE=image/jpeg:https://clwalkerton.org/wp-content/uploads/2025/04/beach.jpg
END:VEVENT
BEGIN:VEVENT
DTSTART;TZID=America/Toronto:20260615T100000
DTEND;TZID=America/Toronto:20260615T120000
DTSTAMP:20260422T181606
CREATED:20260422T163838Z
LAST-MODIFIED:20260422T163838Z
UID:10001776-1781517600-1781524800@clwalkerton.org
SUMMARY:Gardening/Patio
DESCRIPTION:Gardening/Patio – Taking care of the garden and enjoying time on Patio
URL:https://clwalkerton.org/event/gardening-patio/2026-06-15/
CATEGORIES:Community Participation
END:VEVENT
BEGIN:VEVENT
DTSTART;TZID=America/Toronto:20260615T130000
DTEND;TZID=America/Toronto:20260615T150000
DTSTAMP:20260422T181606
CREATED:20260422T165622Z
LAST-MODIFIED:20260422T165622Z
UID:10001802-1781528400-1781535600@clwalkerton.org
SUMMARY:Ladies Club
DESCRIPTION:Ladies Club– COST: $60.00 (3 months) A great way to get ladies together to socialize with some friends
URL:https://clwalkerton.org/event/ladies-club-6/2026-06-15/
CATEGORIES:Community Participation
ATTACH;FMTTYPE=image/jpeg:https://clwalkerton.org/wp-content/uploads/2025/03/ladies-club.jpg
END:VEVENT
BEGIN:VEVENT
DTSTART;TZID=America/Toronto:20260615T130000
DTEND;TZID=America/Toronto:20260615T150000
DTSTAMP:20260422T181606
CREATED:20260422T165809Z
LAST-MODIFIED:20260422T165809Z
UID:10001815-1781528400-1781535600@clwalkerton.org
SUMMARY:Men's Club
DESCRIPTION:Guy’s Club – A great time being social with some friends. $20.00 for 3 months
URL:https://clwalkerton.org/event/mens-club-6/2026-06-15/
CATEGORIES:Community Participation
ATTACH;FMTTYPE=image/jpeg:https://clwalkerton.org/wp-content/uploads/2025/03/mens-club.jpg
END:VEVENT
BEGIN:VEVENT
DTSTART;TZID=America/Toronto:20260616T090000
DTEND;TZID=America/Toronto:20260616T150000
DTSTAMP:20260422T181606
CREATED:20260422T170238Z
LAST-MODIFIED:20260422T170238Z
UID:10001841-1781600400-1781622000@clwalkerton.org
SUMMARY:Summer Markets & Geo Caching
DESCRIPTION:Markets/parks/Geo Caching – will be rotated over the 3 months. Please bring money and Picinic lunch if it is a 9-3pm day.
URL:https://clwalkerton.org/event/summer-markets-geo-caching/2026-06-16/
END:VEVENT
BEGIN:VEVENT
DTSTART;TZID=America/Toronto:20260616T100000
DTEND;TZID=America/Toronto:20260616T120000
DTSTAMP:20260422T181606
CREATED:20260422T170014Z
LAST-MODIFIED:20260422T170014Z
UID:10001828-1781604000-1781611200@clwalkerton.org
SUMMARY:Karaoke
DESCRIPTION:Karaoke – Show your talent by singing your favourite song
URL:https://clwalkerton.org/event/karaoke-5/2026-06-16/
CATEGORIES:Community Participation
END:VEVENT
BEGIN:VEVENT
DTSTART;TZID=America/Toronto:20260616T133000
DTEND;TZID=America/Toronto:20260616T150000
DTSTAMP:20260422T181606
CREATED:20260422T171057Z
LAST-MODIFIED:20260422T171057Z
UID:10001861-1781616600-1781622000@clwalkerton.org
SUMMARY:Visits With Remi the Dog
DESCRIPTION:Dog Therapy -visits with Remi on June 16\, July 28 and Aug 18 (130-3pm). A chance to interact with a trained dog that provides affection\, comfort and support to all individuals.
URL:https://clwalkerton.org/event/visits-with-remi-the-dog/2026-06-16/
CATEGORIES:Community Participation
ATTACH;FMTTYPE=image/jpeg:https://clwalkerton.org/wp-content/uploads/2025/01/visit-w-remi.jpg
END:VEVENT
BEGIN:VEVENT
DTSTART;TZID=America/Toronto:20260617T100000
DTEND;TZID=America/Toronto:20260617T120000
DTSTAMP:20260422T181606
CREATED:20250725T180320Z
LAST-MODIFIED:20250725T180320Z
UID:10000969-1781690400-1781697600@clwalkerton.org
SUMMARY:Library
DESCRIPTION:
URL:https://clwalkerton.org/event/library/2026-06-17/
CATEGORIES:Community Participation
ATTACH;FMTTYPE=image/jpeg:https://clwalkerton.org/wp-content/uploads/2025/01/library.jpg
END:VEVENT
BEGIN:VEVENT
DTSTART;TZID=America/Toronto:20260617T100000
DTEND;TZID=America/Toronto:20260617T120000
DTSTAMP:20260422T181606
CREATED:20260422T173938Z
LAST-MODIFIED:20260422T173938Z
UID:10001867-1781690400-1781697600@clwalkerton.org
SUMMARY: Craft Circle
DESCRIPTION: Craft Circle – Working on 1 craft each month. June\, July and August craft cost is $70.00 We will bill at the beginning of the quarter. Craft on marked on calendar
URL:https://clwalkerton.org/event/craft-circle-4/2026-06-17/
CATEGORIES:Community Participation
ATTACH;FMTTYPE=image/jpeg:https://clwalkerton.org/wp-content/uploads/2025/10/craft-circle.jpg
END:VEVENT
BEGIN:VEVENT
DTSTART;TZID=America/Toronto:20260617T110000
DTEND;TZID=America/Toronto:20260617T150000
DTSTAMP:20260422T181606
CREATED:20250725T181055Z
LAST-MODIFIED:20250725T181055Z
UID:10001033-1781694000-1781708400@clwalkerton.org
SUMMARY:Bowling in Port Elgin
DESCRIPTION:
URL:https://clwalkerton.org/event/bowling-in-port-elgin-3/2026-06-17/
CATEGORIES:Community Participation
ATTACH;FMTTYPE=image/jpeg:https://clwalkerton.org/wp-content/uploads/2025/01/bowling.jpg
END:VEVENT
BEGIN:VEVENT
DTSTART;TZID=America/Toronto:20260617T110000
DTEND;TZID=America/Toronto:20260617T150000
DTSTAMP:20260422T181606
CREATED:20260422T174143Z
LAST-MODIFIED:20260422T174143Z
UID:10001879-1781694000-1781708400@clwalkerton.org
SUMMARY:Bowling
DESCRIPTION:Bowling – Bowling will be offered in Port Elgin (bring $10.00) and a bag lunch that day for the 11-week calendar. We will drive you home
URL:https://clwalkerton.org/event/bowling-2/2026-06-17/
CATEGORIES:Community Participation
ATTACH;FMTTYPE=image/jpeg:https://clwalkerton.org/wp-content/uploads/2025/01/bowling.jpg
END:VEVENT
BEGIN:VEVENT
DTSTART;TZID=America/Toronto:20260617T130000
DTEND;TZID=America/Toronto:20260617T150000
DTSTAMP:20260422T181606
CREATED:20250725T182809Z
LAST-MODIFIED:20250725T182809Z
UID:10001097-1781701200-1781708400@clwalkerton.org
SUMMARY:Games at the HUB
DESCRIPTION:
URL:https://clwalkerton.org/event/games-at-the-hub/2026-06-17/
CATEGORIES:Community Participation
ATTACH;FMTTYPE=image/jpeg:https://clwalkerton.org/wp-content/uploads/2025/01/games.jpg
END:VEVENT
BEGIN:VEVENT
DTSTART;TZID=America/Toronto:20260617T130000
DTEND;TZID=America/Toronto:20260617T150000
DTSTAMP:20260422T181606
CREATED:20260422T174744Z
LAST-MODIFIED:20260422T174744Z
UID:10001891-1781701200-1781708400@clwalkerton.org
SUMMARY:For the Love of Books
DESCRIPTION:For the Love of Books– Together the group will visit the local library to pick out books of interest to read together throughout the weeks.
URL:https://clwalkerton.org/event/for-the-love-of-books-2/2026-06-17/
CATEGORIES:Community Participation
ATTACH;FMTTYPE=image/jpeg:https://clwalkerton.org/wp-content/uploads/2025/01/library.jpg
END:VEVENT
BEGIN:VEVENT
DTSTART;TZID=America/Toronto:20260618T090000
DTEND;TZID=America/Toronto:20260618T150000
DTSTAMP:20260422T181606
CREATED:20260422T180029Z
LAST-MODIFIED:20260422T180029Z
UID:10001916-1781773200-1781794800@clwalkerton.org
SUMMARY:Adventures
DESCRIPTION:Adventures – Is a variety of outings that cover plays\, visits to see animals\, fishing and many more idea. Each outing requires money – bring 20.00 each time
URL:https://clwalkerton.org/event/adventures/2026-06-18/
CATEGORIES:Community Participation
ATTACH;FMTTYPE=image/jpeg:https://clwalkerton.org/wp-content/uploads/2025/04/adventure.jpg
END:VEVENT
BEGIN:VEVENT
DTSTART;TZID=America/Toronto:20260618T100000
DTEND;TZID=America/Toronto:20260618T120000
DTSTAMP:20260422T181606
CREATED:20260422T175638Z
LAST-MODIFIED:20260422T175818Z
UID:10001904-1781776800-1781784000@clwalkerton.org
SUMMARY:Mug and Music
DESCRIPTION:Mugs and Music – Making a mug dessert – 3-month cost $25.00
URL:https://clwalkerton.org/event/mug-and-music/2026-06-18/
CATEGORIES:Community Participation
ATTACH;FMTTYPE=image/jpeg:https://clwalkerton.org/wp-content/uploads/2026/04/mug-and-music.jpg
END:VEVENT
END:VCALENDAR