BEGIN:VCALENDAR
VERSION:2.0
PRODID:-//Community Living Walkerton and District - ECPv6.15.18//NONSGML v1.0//EN
CALSCALE:GREGORIAN
METHOD:PUBLISH
X-WR-CALNAME:Community Living Walkerton and District
X-ORIGINAL-URL:https://clwalkerton.org
X-WR-CALDESC:Events for Community Living Walkerton and District
REFRESH-INTERVAL;VALUE=DURATION:PT1H
X-Robots-Tag:noindex
X-PUBLISHED-TTL:PT1H
BEGIN:VTIMEZONE
TZID:America/Toronto
BEGIN:DAYLIGHT
TZOFFSETFROM:-0500
TZOFFSETTO:-0400
TZNAME:EDT
DTSTART:20250309T070000
END:DAYLIGHT
BEGIN:STANDARD
TZOFFSETFROM:-0400
TZOFFSETTO:-0500
TZNAME:EST
DTSTART:20251102T060000
END:STANDARD
BEGIN:DAYLIGHT
TZOFFSETFROM:-0500
TZOFFSETTO:-0400
TZNAME:EDT
DTSTART:20260308T070000
END:DAYLIGHT
BEGIN:STANDARD
TZOFFSETFROM:-0400
TZOFFSETTO:-0500
TZNAME:EST
DTSTART:20261101T060000
END:STANDARD
BEGIN:DAYLIGHT
TZOFFSETFROM:-0500
TZOFFSETTO:-0400
TZNAME:EDT
DTSTART:20270314T070000
END:DAYLIGHT
BEGIN:STANDARD
TZOFFSETFROM:-0400
TZOFFSETTO:-0500
TZNAME:EST
DTSTART:20271107T060000
END:STANDARD
END:VTIMEZONE
BEGIN:VEVENT
DTSTART;TZID=America/Toronto:20260708T130000
DTEND;TZID=America/Toronto:20260708T150000
DTSTAMP:20260422T133349
CREATED:20250725T182809Z
LAST-MODIFIED:20250725T182809Z
UID:10001100-1783515600-1783522800@clwalkerton.org
SUMMARY:Games at the HUB
DESCRIPTION:
URL:https://clwalkerton.org/event/games-at-the-hub/2026-07-08/
CATEGORIES:Community Participation
ATTACH;FMTTYPE=image/jpeg:https://clwalkerton.org/wp-content/uploads/2025/01/games.jpg
END:VEVENT
BEGIN:VEVENT
DTSTART;TZID=America/Toronto:20260709T130000
DTEND;TZID=America/Toronto:20260709T150000
DTSTAMP:20260422T133349
CREATED:20251030T160549Z
LAST-MODIFIED:20251030T160549Z
UID:10001454-1783602000-1783609200@clwalkerton.org
SUMMARY:Artistic Expression
DESCRIPTION:Bring your own project and let’s get creative together.
URL:https://clwalkerton.org/event/artistic-expression/2026-07-09/
CATEGORIES:Community Participation
ATTACH;FMTTYPE=image/jpeg:https://clwalkerton.org/wp-content/uploads/2025/10/art-project.jpg
END:VEVENT
BEGIN:VEVENT
DTSTART;TZID=America/Toronto:20260713T090000
DTEND;TZID=America/Toronto:20260713T150000
DTSTAMP:20260422T133349
CREATED:20260422T164033Z
LAST-MODIFIED:20260422T164033Z
UID:10001793-1783933200-1783954800@clwalkerton.org
SUMMARY:Wave Warriors
DESCRIPTION:Wave Warriors – Spending time at a beach of their choice while enjoying their picnic lunch. Bring Money in case a drink is wanted and a picnic lunch
URL:https://clwalkerton.org/event/wave-warriors/2026-07-13/
CATEGORIES:Community Participation
ATTACH;FMTTYPE=image/jpeg:https://clwalkerton.org/wp-content/uploads/2025/04/beach.jpg
END:VEVENT
BEGIN:VEVENT
DTSTART;TZID=America/Toronto:20260713T100000
DTEND;TZID=America/Toronto:20260713T120000
DTSTAMP:20260422T133349
CREATED:20260422T163838Z
LAST-MODIFIED:20260422T163838Z
UID:10001780-1783936800-1783944000@clwalkerton.org
SUMMARY:Gardening/Patio
DESCRIPTION:Gardening/Patio – Taking care of the garden and enjoying time on Patio
URL:https://clwalkerton.org/event/gardening-patio/2026-07-13/
CATEGORIES:Community Participation
END:VEVENT
BEGIN:VEVENT
DTSTART;TZID=America/Toronto:20260713T130000
DTEND;TZID=America/Toronto:20260713T150000
DTSTAMP:20260422T133349
CREATED:20260422T165622Z
LAST-MODIFIED:20260422T165622Z
UID:10001806-1783947600-1783954800@clwalkerton.org
SUMMARY:Ladies Club
DESCRIPTION:Ladies Club– COST: $60.00 (3 months) A great way to get ladies together to socialize with some friends
URL:https://clwalkerton.org/event/ladies-club-6/2026-07-13/
CATEGORIES:Community Participation
ATTACH;FMTTYPE=image/jpeg:https://clwalkerton.org/wp-content/uploads/2025/03/ladies-club.jpg
END:VEVENT
BEGIN:VEVENT
DTSTART;TZID=America/Toronto:20260713T130000
DTEND;TZID=America/Toronto:20260713T150000
DTSTAMP:20260422T133349
CREATED:20260422T165809Z
LAST-MODIFIED:20260422T165809Z
UID:10001819-1783947600-1783954800@clwalkerton.org
SUMMARY:Men's Club
DESCRIPTION:Guy’s Club – A great time being social with some friends. $20.00 for 3 months
URL:https://clwalkerton.org/event/mens-club-6/2026-07-13/
CATEGORIES:Community Participation
ATTACH;FMTTYPE=image/jpeg:https://clwalkerton.org/wp-content/uploads/2025/03/mens-club.jpg
END:VEVENT
BEGIN:VEVENT
DTSTART;TZID=America/Toronto:20260714T090000
DTEND;TZID=America/Toronto:20260714T150000
DTSTAMP:20260422T133349
CREATED:20260422T170238Z
LAST-MODIFIED:20260422T170238Z
UID:10001845-1784019600-1784041200@clwalkerton.org
SUMMARY:Summer Markets & Geo Caching
DESCRIPTION:Markets/parks/Geo Caching – will be rotated over the 3 months. Please bring money and Picinic lunch if it is a 9-3pm day.
URL:https://clwalkerton.org/event/summer-markets-geo-caching/2026-07-14/
END:VEVENT
BEGIN:VEVENT
DTSTART;TZID=America/Toronto:20260714T100000
DTEND;TZID=America/Toronto:20260714T120000
DTSTAMP:20260422T133349
CREATED:20260422T170014Z
LAST-MODIFIED:20260422T170014Z
UID:10001832-1784023200-1784030400@clwalkerton.org
SUMMARY:Karaoke
DESCRIPTION:Karaoke – Show your talent by singing your favourite song
URL:https://clwalkerton.org/event/karaoke-5/2026-07-14/
CATEGORIES:Community Participation
END:VEVENT
BEGIN:VEVENT
DTSTART;TZID=America/Toronto:20260714T130000
DTEND;TZID=America/Toronto:20260714T150000
DTSTAMP:20260422T133349
CREATED:20260422T170738Z
LAST-MODIFIED:20260422T170738Z
UID:10001856-1784034000-1784041200@clwalkerton.org
SUMMARY:Smoothie/Strolls /Ice cream
DESCRIPTION:Smoothie/Strolls /Ice cream – learning to make a smoothie Cost $25 for the quarter or enjoy a stroll and treat (Ice cream) for each the outing bring $10
URL:https://clwalkerton.org/event/smoothie-strolls-ice-cream/2026-07-14/
CATEGORIES:Community Participation
ATTACH;FMTTYPE=image/jpeg:https://clwalkerton.org/wp-content/uploads/2025/04/smoothies.jpg
END:VEVENT
BEGIN:VEVENT
DTSTART;TZID=America/Toronto:20260715T100000
DTEND;TZID=America/Toronto:20260715T120000
DTSTAMP:20260422T133349
CREATED:20250725T180320Z
LAST-MODIFIED:20250725T180320Z
UID:10000973-1784109600-1784116800@clwalkerton.org
SUMMARY:Library
DESCRIPTION:
URL:https://clwalkerton.org/event/library/2026-07-15/
CATEGORIES:Community Participation
ATTACH;FMTTYPE=image/jpeg:https://clwalkerton.org/wp-content/uploads/2025/01/library.jpg
END:VEVENT
BEGIN:VEVENT
DTSTART;TZID=America/Toronto:20260715T110000
DTEND;TZID=America/Toronto:20260715T150000
DTSTAMP:20260422T133349
CREATED:20250725T181055Z
LAST-MODIFIED:20250725T181055Z
UID:10001037-1784113200-1784127600@clwalkerton.org
SUMMARY:Bowling in Port Elgin
DESCRIPTION:
URL:https://clwalkerton.org/event/bowling-in-port-elgin-3/2026-07-15/
CATEGORIES:Community Participation
ATTACH;FMTTYPE=image/jpeg:https://clwalkerton.org/wp-content/uploads/2025/01/bowling.jpg
END:VEVENT
BEGIN:VEVENT
DTSTART;TZID=America/Toronto:20260715T130000
DTEND;TZID=America/Toronto:20260715T150000
DTSTAMP:20260422T133349
CREATED:20250725T182809Z
LAST-MODIFIED:20250725T182809Z
UID:10001101-1784120400-1784127600@clwalkerton.org
SUMMARY:Games at the HUB
DESCRIPTION:
URL:https://clwalkerton.org/event/games-at-the-hub/2026-07-15/
CATEGORIES:Community Participation
ATTACH;FMTTYPE=image/jpeg:https://clwalkerton.org/wp-content/uploads/2025/01/games.jpg
END:VEVENT
BEGIN:VEVENT
DTSTART;TZID=America/Toronto:20260716T130000
DTEND;TZID=America/Toronto:20260716T150000
DTSTAMP:20260422T133349
CREATED:20251030T160549Z
LAST-MODIFIED:20251030T160549Z
UID:10001455-1784206800-1784214000@clwalkerton.org
SUMMARY:Artistic Expression
DESCRIPTION:Bring your own project and let’s get creative together.
URL:https://clwalkerton.org/event/artistic-expression/2026-07-16/
CATEGORIES:Community Participation
ATTACH;FMTTYPE=image/jpeg:https://clwalkerton.org/wp-content/uploads/2025/10/art-project.jpg
END:VEVENT
BEGIN:VEVENT
DTSTART;TZID=America/Toronto:20260720T090000
DTEND;TZID=America/Toronto:20260720T150000
DTSTAMP:20260422T133349
CREATED:20260422T164033Z
LAST-MODIFIED:20260422T164033Z
UID:10001794-1784538000-1784559600@clwalkerton.org
SUMMARY:Wave Warriors
DESCRIPTION:Wave Warriors – Spending time at a beach of their choice while enjoying their picnic lunch. Bring Money in case a drink is wanted and a picnic lunch
URL:https://clwalkerton.org/event/wave-warriors/2026-07-20/
CATEGORIES:Community Participation
ATTACH;FMTTYPE=image/jpeg:https://clwalkerton.org/wp-content/uploads/2025/04/beach.jpg
END:VEVENT
BEGIN:VEVENT
DTSTART;TZID=America/Toronto:20260720T100000
DTEND;TZID=America/Toronto:20260720T120000
DTSTAMP:20260422T133349
CREATED:20260422T163838Z
LAST-MODIFIED:20260422T163838Z
UID:10001781-1784541600-1784548800@clwalkerton.org
SUMMARY:Gardening/Patio
DESCRIPTION:Gardening/Patio – Taking care of the garden and enjoying time on Patio
URL:https://clwalkerton.org/event/gardening-patio/2026-07-20/
CATEGORIES:Community Participation
END:VEVENT
BEGIN:VEVENT
DTSTART;TZID=America/Toronto:20260720T130000
DTEND;TZID=America/Toronto:20260720T150000
DTSTAMP:20260422T133349
CREATED:20260422T165622Z
LAST-MODIFIED:20260422T165622Z
UID:10001807-1784552400-1784559600@clwalkerton.org
SUMMARY:Ladies Club
DESCRIPTION:Ladies Club– COST: $60.00 (3 months) A great way to get ladies together to socialize with some friends
URL:https://clwalkerton.org/event/ladies-club-6/2026-07-20/
CATEGORIES:Community Participation
ATTACH;FMTTYPE=image/jpeg:https://clwalkerton.org/wp-content/uploads/2025/03/ladies-club.jpg
END:VEVENT
BEGIN:VEVENT
DTSTART;TZID=America/Toronto:20260720T130000
DTEND;TZID=America/Toronto:20260720T150000
DTSTAMP:20260422T133349
CREATED:20260422T165809Z
LAST-MODIFIED:20260422T165809Z
UID:10001820-1784552400-1784559600@clwalkerton.org
SUMMARY:Men's Club
DESCRIPTION:Guy’s Club – A great time being social with some friends. $20.00 for 3 months
URL:https://clwalkerton.org/event/mens-club-6/2026-07-20/
CATEGORIES:Community Participation
ATTACH;FMTTYPE=image/jpeg:https://clwalkerton.org/wp-content/uploads/2025/03/mens-club.jpg
END:VEVENT
BEGIN:VEVENT
DTSTART;TZID=America/Toronto:20260721T090000
DTEND;TZID=America/Toronto:20260721T150000
DTSTAMP:20260422T133349
CREATED:20260422T170238Z
LAST-MODIFIED:20260422T170238Z
UID:10001846-1784624400-1784646000@clwalkerton.org
SUMMARY:Summer Markets & Geo Caching
DESCRIPTION:Markets/parks/Geo Caching – will be rotated over the 3 months. Please bring money and Picinic lunch if it is a 9-3pm day.
URL:https://clwalkerton.org/event/summer-markets-geo-caching/2026-07-21/
END:VEVENT
BEGIN:VEVENT
DTSTART;TZID=America/Toronto:20260721T100000
DTEND;TZID=America/Toronto:20260721T120000
DTSTAMP:20260422T133349
CREATED:20260422T170014Z
LAST-MODIFIED:20260422T170014Z
UID:10001833-1784628000-1784635200@clwalkerton.org
SUMMARY:Karaoke
DESCRIPTION:Karaoke – Show your talent by singing your favourite song
URL:https://clwalkerton.org/event/karaoke-5/2026-07-21/
CATEGORIES:Community Participation
END:VEVENT
BEGIN:VEVENT
DTSTART;TZID=America/Toronto:20260721T130000
DTEND;TZID=America/Toronto:20260721T150000
DTSTAMP:20260422T133349
CREATED:20260422T170738Z
LAST-MODIFIED:20260422T170738Z
UID:10001857-1784638800-1784646000@clwalkerton.org
SUMMARY:Smoothie/Strolls /Ice cream
DESCRIPTION:Smoothie/Strolls /Ice cream – learning to make a smoothie Cost $25 for the quarter or enjoy a stroll and treat (Ice cream) for each the outing bring $10
URL:https://clwalkerton.org/event/smoothie-strolls-ice-cream/2026-07-21/
CATEGORIES:Community Participation
ATTACH;FMTTYPE=image/jpeg:https://clwalkerton.org/wp-content/uploads/2025/04/smoothies.jpg
END:VEVENT
BEGIN:VEVENT
DTSTART;TZID=America/Toronto:20260722T100000
DTEND;TZID=America/Toronto:20260722T120000
DTSTAMP:20260422T133349
CREATED:20250725T180320Z
LAST-MODIFIED:20250725T180320Z
UID:10000974-1784714400-1784721600@clwalkerton.org
SUMMARY:Library
DESCRIPTION:
URL:https://clwalkerton.org/event/library/2026-07-22/
CATEGORIES:Community Participation
ATTACH;FMTTYPE=image/jpeg:https://clwalkerton.org/wp-content/uploads/2025/01/library.jpg
END:VEVENT
BEGIN:VEVENT
DTSTART;TZID=America/Toronto:20260722T110000
DTEND;TZID=America/Toronto:20260722T150000
DTSTAMP:20260422T133349
CREATED:20250725T181055Z
LAST-MODIFIED:20250725T181055Z
UID:10001038-1784718000-1784732400@clwalkerton.org
SUMMARY:Bowling in Port Elgin
DESCRIPTION:
URL:https://clwalkerton.org/event/bowling-in-port-elgin-3/2026-07-22/
CATEGORIES:Community Participation
ATTACH;FMTTYPE=image/jpeg:https://clwalkerton.org/wp-content/uploads/2025/01/bowling.jpg
END:VEVENT
BEGIN:VEVENT
DTSTART;TZID=America/Toronto:20260722T130000
DTEND;TZID=America/Toronto:20260722T150000
DTSTAMP:20260422T133349
CREATED:20250725T182809Z
LAST-MODIFIED:20250725T182809Z
UID:10001102-1784725200-1784732400@clwalkerton.org
SUMMARY:Games at the HUB
DESCRIPTION:
URL:https://clwalkerton.org/event/games-at-the-hub/2026-07-22/
CATEGORIES:Community Participation
ATTACH;FMTTYPE=image/jpeg:https://clwalkerton.org/wp-content/uploads/2025/01/games.jpg
END:VEVENT
BEGIN:VEVENT
DTSTART;TZID=America/Toronto:20260723T130000
DTEND;TZID=America/Toronto:20260723T150000
DTSTAMP:20260422T133349
CREATED:20251030T160549Z
LAST-MODIFIED:20251030T160549Z
UID:10001456-1784811600-1784818800@clwalkerton.org
SUMMARY:Artistic Expression
DESCRIPTION:Bring your own project and let’s get creative together.
URL:https://clwalkerton.org/event/artistic-expression/2026-07-23/
CATEGORIES:Community Participation
ATTACH;FMTTYPE=image/jpeg:https://clwalkerton.org/wp-content/uploads/2025/10/art-project.jpg
END:VEVENT
BEGIN:VEVENT
DTSTART;TZID=America/Toronto:20260727T090000
DTEND;TZID=America/Toronto:20260727T150000
DTSTAMP:20260422T133349
CREATED:20260422T164033Z
LAST-MODIFIED:20260422T164033Z
UID:10001795-1785142800-1785164400@clwalkerton.org
SUMMARY:Wave Warriors
DESCRIPTION:Wave Warriors – Spending time at a beach of their choice while enjoying their picnic lunch. Bring Money in case a drink is wanted and a picnic lunch
URL:https://clwalkerton.org/event/wave-warriors/2026-07-27/
CATEGORIES:Community Participation
ATTACH;FMTTYPE=image/jpeg:https://clwalkerton.org/wp-content/uploads/2025/04/beach.jpg
END:VEVENT
BEGIN:VEVENT
DTSTART;TZID=America/Toronto:20260727T100000
DTEND;TZID=America/Toronto:20260727T120000
DTSTAMP:20260422T133349
CREATED:20260422T163838Z
LAST-MODIFIED:20260422T163838Z
UID:10001782-1785146400-1785153600@clwalkerton.org
SUMMARY:Gardening/Patio
DESCRIPTION:Gardening/Patio – Taking care of the garden and enjoying time on Patio
URL:https://clwalkerton.org/event/gardening-patio/2026-07-27/
CATEGORIES:Community Participation
END:VEVENT
BEGIN:VEVENT
DTSTART;TZID=America/Toronto:20260727T130000
DTEND;TZID=America/Toronto:20260727T150000
DTSTAMP:20260422T133349
CREATED:20260422T165622Z
LAST-MODIFIED:20260422T165622Z
UID:10001808-1785157200-1785164400@clwalkerton.org
SUMMARY:Ladies Club
DESCRIPTION:Ladies Club– COST: $60.00 (3 months) A great way to get ladies together to socialize with some friends
URL:https://clwalkerton.org/event/ladies-club-6/2026-07-27/
CATEGORIES:Community Participation
ATTACH;FMTTYPE=image/jpeg:https://clwalkerton.org/wp-content/uploads/2025/03/ladies-club.jpg
END:VEVENT
BEGIN:VEVENT
DTSTART;TZID=America/Toronto:20260727T130000
DTEND;TZID=America/Toronto:20260727T150000
DTSTAMP:20260422T133349
CREATED:20260422T165809Z
LAST-MODIFIED:20260422T165809Z
UID:10001821-1785157200-1785164400@clwalkerton.org
SUMMARY:Men's Club
DESCRIPTION:Guy’s Club – A great time being social with some friends. $20.00 for 3 months
URL:https://clwalkerton.org/event/mens-club-6/2026-07-27/
CATEGORIES:Community Participation
ATTACH;FMTTYPE=image/jpeg:https://clwalkerton.org/wp-content/uploads/2025/03/mens-club.jpg
END:VEVENT
BEGIN:VEVENT
DTSTART;TZID=America/Toronto:20260728T090000
DTEND;TZID=America/Toronto:20260728T150000
DTSTAMP:20260422T133349
CREATED:20260422T170238Z
LAST-MODIFIED:20260422T170238Z
UID:10001847-1785229200-1785250800@clwalkerton.org
SUMMARY:Summer Markets & Geo Caching
DESCRIPTION:Markets/parks/Geo Caching – will be rotated over the 3 months. Please bring money and Picinic lunch if it is a 9-3pm day.
URL:https://clwalkerton.org/event/summer-markets-geo-caching/2026-07-28/
END:VEVENT
BEGIN:VEVENT
DTSTART;TZID=America/Toronto:20260728T100000
DTEND;TZID=America/Toronto:20260728T120000
DTSTAMP:20260422T133349
CREATED:20260422T170014Z
LAST-MODIFIED:20260422T170014Z
UID:10001834-1785232800-1785240000@clwalkerton.org
SUMMARY:Karaoke
DESCRIPTION:Karaoke – Show your talent by singing your favourite song
URL:https://clwalkerton.org/event/karaoke-5/2026-07-28/
CATEGORIES:Community Participation
END:VEVENT
END:VCALENDAR